BEGIN:VCALENDAR
VERSION:2.0
PRODID:-//Sophfronia Scott - ECPv6.15.20//NONSGML v1.0//EN
CALSCALE:GREGORIAN
METHOD:PUBLISH
X-ORIGINAL-URL:https://sophfronia.com
X-WR-CALDESC:Events for Sophfronia Scott
REFRESH-INTERVAL;VALUE=DURATION:PT1H
X-Robots-Tag:noindex
X-PUBLISHED-TTL:PT1H
BEGIN:VTIMEZONE
TZID:America/New_York
BEGIN:DAYLIGHT
TZOFFSETFROM:-0500
TZOFFSETTO:-0400
TZNAME:EDT
DTSTART:20220313T070000
END:DAYLIGHT
BEGIN:STANDARD
TZOFFSETFROM:-0400
TZOFFSETTO:-0500
TZNAME:EST
DTSTART:20221106T060000
END:STANDARD
BEGIN:DAYLIGHT
TZOFFSETFROM:-0500
TZOFFSETTO:-0400
TZNAME:EDT
DTSTART:20230312T070000
END:DAYLIGHT
BEGIN:STANDARD
TZOFFSETFROM:-0400
TZOFFSETTO:-0500
TZNAME:EST
DTSTART:20231105T060000
END:STANDARD
BEGIN:DAYLIGHT
TZOFFSETFROM:-0500
TZOFFSETTO:-0400
TZNAME:EDT
DTSTART:20240310T070000
END:DAYLIGHT
BEGIN:STANDARD
TZOFFSETFROM:-0400
TZOFFSETTO:-0500
TZNAME:EST
DTSTART:20241103T060000
END:STANDARD
END:VTIMEZONE
BEGIN:VEVENT
DTSTART;VALUE=DATE:20230331
DTEND;VALUE=DATE:20230402
DTSTAMP:20260420T184430
CREATED:20221224T044154Z
LAST-MODIFIED:20221224T044154Z
UID:3906-1680220800-1680393599@sophfronia.com
SUMMARY:Woodstock Bookfest\, Boiceville\, NY
DESCRIPTION:Panel: Spiritual Practice and Social Consciousness \nIn these complex and troubling days many of us yearn for a stronger connection between our social consciousness and our spirituality. Knowing that real sustainable change is ultimately up to each of us\, what then are the spiritual practices that can inspire and sustain us\, empowering us to have lasting impact during this turbulent era? Luminary teachers\, activists\, and writers\, bring their knowledge\, heart\, and soul to shed light on the intrinsic connection between spirituality and social change. How are these demanding times the perfect catalyst for deepening both our practice and our social impact?
URL:https://sophfronia.com/event/woodstock-bookfest-boiceville-ny/
CATEGORIES:Where is Sophfronia?
ATTACH;FMTTYPE=image/png:https://sophfronia.com/wp-content/uploads/2022/12/woodstock-bookfest-logo-mobile-header.png
END:VEVENT
BEGIN:VEVENT
DTSTART;TZID=America/New_York:20230414T120000
DTEND;TZID=America/New_York:20230414T140000
DTSTAMP:20260420T184430
CREATED:20221224T044931Z
LAST-MODIFIED:20221224T044931Z
UID:3908-1681473600-1681480800@sophfronia.com
SUMMARY:Eat and Read at Melba's\, New Orleans\, LA
DESCRIPTION:Sophfronia Scott will sign copies of her new novel Wild\, Beautiful\, and Free\, as part of a communal literacy awareness project. The books will be given away to community members.
URL:https://sophfronia.com/event/eat-and-read-at-melbas-new-orleans-la-duplicate-1/
CATEGORIES:Where is Sophfronia?
ATTACH;FMTTYPE=image/png:https://sophfronia.com/wp-content/uploads/2021/10/Melbas-New-Orleans-e1633905027766.png
END:VEVENT
BEGIN:VEVENT
DTSTART;VALUE=DATE:20230425
DTEND;VALUE=DATE:20230428
DTSTAMP:20260420T184430
CREATED:20221224T045902Z
LAST-MODIFIED:20221224T045902Z
UID:3911-1682380800-1682639999@sophfronia.com
SUMMARY:The Sacred Art of Writing\, Western Theological Seminary\, Holland\, MI
DESCRIPTION:
URL:https://sophfronia.com/event/the-sacred-art-of-writing-western-theological-seminary-holland-mi/
CATEGORIES:Where is Sophfronia?
ATTACH;FMTTYPE=image/jpeg:https://sophfronia.com/wp-content/uploads/2022/12/western-theological-seminary-e1671857723637.jpeg
END:VEVENT
END:VCALENDAR