BEGIN:VCALENDAR
VERSION:2.0
PRODID:-//Sophfronia Scott - ECPv6.15.20//NONSGML v1.0//EN
CALSCALE:GREGORIAN
METHOD:PUBLISH
X-WR-CALNAME:Sophfronia Scott
X-ORIGINAL-URL:https://sophfronia.com
X-WR-CALDESC:Events for Sophfronia Scott
REFRESH-INTERVAL;VALUE=DURATION:PT1H
X-Robots-Tag:noindex
X-PUBLISHED-TTL:PT1H
BEGIN:VTIMEZONE
TZID:America/New_York
BEGIN:DAYLIGHT
TZOFFSETFROM:-0500
TZOFFSETTO:-0400
TZNAME:EDT
DTSTART:20160313T070000
END:DAYLIGHT
BEGIN:STANDARD
TZOFFSETFROM:-0400
TZOFFSETTO:-0500
TZNAME:EST
DTSTART:20161106T060000
END:STANDARD
BEGIN:DAYLIGHT
TZOFFSETFROM:-0500
TZOFFSETTO:-0400
TZNAME:EDT
DTSTART:20170312T070000
END:DAYLIGHT
BEGIN:STANDARD
TZOFFSETFROM:-0400
TZOFFSETTO:-0500
TZNAME:EST
DTSTART:20171105T060000
END:STANDARD
BEGIN:DAYLIGHT
TZOFFSETFROM:-0500
TZOFFSETTO:-0400
TZNAME:EDT
DTSTART:20180311T070000
END:DAYLIGHT
BEGIN:STANDARD
TZOFFSETFROM:-0400
TZOFFSETTO:-0500
TZNAME:EST
DTSTART:20181104T060000
END:STANDARD
END:VTIMEZONE
BEGIN:VEVENT
DTSTART;TZID=America/New_York:20170922T140000
DTEND;TZID=America/New_York:20170922T163000
DTSTAMP:20260421T013640
CREATED:20170919T160627Z
LAST-MODIFIED:20170919T160627Z
UID:1606-1506088800-1506097800@sophfronia.com
SUMMARY:Visiting Writer\, Fairfield University\, Fairfield\, CT
DESCRIPTION:Sophfronia will visit composition classes to discuss her writings read by the students.
URL:https://sophfronia.com/event/visiting-writer-fairfield-university-fairfield-ct/
CATEGORIES:Where is Sophfronia?
ATTACH;FMTTYPE=image/jpeg:https://sophfronia.com/wp-content/uploads/2017/09/Fairfield_university_Hall-e1505837012135.jpg
END:VEVENT
BEGIN:VEVENT
DTSTART;VALUE=DATE:20170914
DTEND;VALUE=DATE:20170917
DTSTAMP:20260421T013640
CREATED:20170524T234215Z
LAST-MODIFIED:20170524T234215Z
UID:1433-1505347200-1505606399@sophfronia.com
SUMMARY:Black Love Symposium\, University of Kansas\, Lawrence\, KS
DESCRIPTION:The Black Love Symposium is in celebration of the 80th anniversary of the publication of Zora Neale Hurston’s Their Eyes Were Watching God. Sophfronia will read from Unforgivable Love.
URL:https://sophfronia.com/event/black-love-symposium-university-of-kansas-lawrence-ks/
CATEGORIES:Where is Sophfronia?
ATTACH;FMTTYPE=image/jpeg:https://sophfronia.com/wp-content/uploads/2017/05/KU-e1495669311102.jpg
END:VEVENT
BEGIN:VEVENT
DTSTART;VALUE=DATE:20170908
DTEND;VALUE=DATE:20170911
DTSTAMP:20260421T013640
CREATED:20170501T202957Z
LAST-MODIFIED:20170524T215453Z
UID:1139-1504828800-1505087999@sophfronia.com
SUMMARY:Hobart Book Village Festival of Women Writers\, Hobart\, NY
DESCRIPTION:The Hobart Book Village Festival of Women Writers is a three-day celebration of women writers with readings\, workshops\, and a panel discussion. Sophfronia will teach a session on writing book proposals and read from her forthcoming novel.
URL:https://sophfronia.com/event/hobart-book-village-festival-of-women-writers-hobart-ny/
LOCATION:Hobart Book Village\, Hobart\, NY\, United States
CATEGORIES:Where is Sophfronia?
ATTACH;FMTTYPE=image/jpeg:https://sophfronia.com/wp-content/uploads/2017/05/event-hobart.jpg
END:VEVENT
BEGIN:VEVENT
DTSTART;VALUE=DATE:20170718
DTEND;VALUE=DATE:20170720
DTSTAMP:20260421T013640
CREATED:20170501T202342Z
LAST-MODIFIED:20170524T215710Z
UID:1135-1500336000-1500508799@sophfronia.com
SUMMARY:Writing For Your Life Writer’s Conference\, Belmont University\, Nashville\, TN
DESCRIPTION:Belmont University welcomes you to the inaugural Writing for Your Life Writer’s Conference! The conference is open to all who are interested in spiritual writing. It will include popular Christian authors and representatives from the Christian publishing industry. The main conference will take place on July 18-19\, 2017\, with a pre-conference Advanced Writer’s Retreat on July 17. The conference and retreat will take place at the beautiful Janet Ayers Academic Center on the campus of Belmont University. Sophfronia’s session will be “The Art of Memoir.”
URL:https://sophfronia.com/event/writing-for-your-life-writers-conference-belmont-university-nashville-tn/
LOCATION:Belmont University\, Nashville\, TN\, United States
CATEGORIES:Where is Sophfronia?
ATTACH;FMTTYPE=image/jpeg:https://sophfronia.com/wp-content/uploads/2017/05/event-belmont.jpg
END:VEVENT
BEGIN:VEVENT
DTSTART;TZID=America/New_York:20170624T140000
DTEND;TZID=America/New_York:20170624T160000
DTSTAMP:20260421T013640
CREATED:20170501T202055Z
LAST-MODIFIED:20170524T220848Z
UID:1131-1498312800-1498320000@sophfronia.com
SUMMARY:Connecticut Authors Reading Series\, Newtown\, CT
DESCRIPTION:Sophfronia curates this ongoing series that introduces readers and writers to the work of authors who live in the Nutmeg State. Refreshments will be served and books will be available for sale.
URL:https://sophfronia.com/event/connecticut-authors-reading-series-newtown-ct/
LOCATION:C.H. Booth Library\, 25 Main Street\, Newtown\, CT\, 06470\, United States
CATEGORIES:Where is Sophfronia?
ATTACH;FMTTYPE=image/jpeg:https://sophfronia.com/wp-content/uploads/2017/05/library-e1495663704276.jpg
END:VEVENT
BEGIN:VEVENT
DTSTART;VALUE=DATE:20170606
DTEND;VALUE=DATE:20170610
DTSTAMP:20260421T013640
CREATED:20170501T201800Z
LAST-MODIFIED:20170524T220954Z
UID:1127-1496707200-1497052799@sophfronia.com
SUMMARY:Frederick Buechner Writers Workshop\, Princeton Theological Seminary\, Princeton\, NJ
DESCRIPTION:
URL:https://sophfronia.com/event/frederick-buechner-writers-workshop-princeton-theological-seminary-princeton-nj/
LOCATION:Princeton Theological Seminary\, Princeton \, NJ\, United States
CATEGORIES:Where is Sophfronia?
ATTACH;FMTTYPE=image/jpeg:https://sophfronia.com/wp-content/uploads/2017/05/event-princeton.jpg
END:VEVENT
BEGIN:VEVENT
DTSTART;VALUE=DATE:20170604
DTEND;VALUE=DATE:20170605
DTSTAMP:20260421T013640
CREATED:20170501T201422Z
LAST-MODIFIED:20170526T161132Z
UID:1123-1496534400-1496620799@sophfronia.com
SUMMARY:Booklovers at Bay Path\, Bay Path University\, Longmeadow\, MA
DESCRIPTION:
URL:https://sophfronia.com/event/bay-path-university-writers-day-longmeadow-ma/
LOCATION:Bay Path University\, Longmeadow\, MA\, United States
CATEGORIES:Where is Sophfronia?
ATTACH;FMTTYPE=image/jpeg:https://sophfronia.com/wp-content/uploads/2017/05/event-baypath.jpg
END:VEVENT
BEGIN:VEVENT
DTSTART;VALUE=DATE:20170531
DTEND;VALUE=DATE:20170603
DTSTAMP:20260421T013640
CREATED:20170501T200411Z
LAST-MODIFIED:20170524T232420Z
UID:1119-1496188800-1496447999@sophfronia.com
SUMMARY:Book Expo America\, New York\, NY
DESCRIPTION:Sophfronia will sign galleys of UNFORGIVABLE LOVE at the HarperCollins Booth on Friday\, June 2 at 10 a.m.
URL:https://sophfronia.com/event/book-expo-america-new-york-ny/
LOCATION:Book Expo America\, New York\, NY\, United States
CATEGORIES:Where is Sophfronia?
ATTACH;FMTTYPE=image/jpeg:https://sophfronia.com/wp-content/uploads/2017/05/event-bea.jpg
END:VEVENT
END:VCALENDAR