BEGIN:VCALENDAR
VERSION:2.0
PRODID:-//Sophfronia Scott - ECPv6.15.20//NONSGML v1.0//EN
CALSCALE:GREGORIAN
METHOD:PUBLISH
X-WR-CALNAME:Sophfronia Scott
X-ORIGINAL-URL:https://sophfronia.com
X-WR-CALDESC:Events for Sophfronia Scott
REFRESH-INTERVAL;VALUE=DURATION:PT1H
X-Robots-Tag:noindex
X-PUBLISHED-TTL:PT1H
BEGIN:VTIMEZONE
TZID:America/New_York
BEGIN:DAYLIGHT
TZOFFSETFROM:-0500
TZOFFSETTO:-0400
TZNAME:EDT
DTSTART:20160313T070000
END:DAYLIGHT
BEGIN:STANDARD
TZOFFSETFROM:-0400
TZOFFSETTO:-0500
TZNAME:EST
DTSTART:20161106T060000
END:STANDARD
BEGIN:DAYLIGHT
TZOFFSETFROM:-0500
TZOFFSETTO:-0400
TZNAME:EDT
DTSTART:20170312T070000
END:DAYLIGHT
BEGIN:STANDARD
TZOFFSETFROM:-0400
TZOFFSETTO:-0500
TZNAME:EST
DTSTART:20171105T060000
END:STANDARD
BEGIN:DAYLIGHT
TZOFFSETFROM:-0500
TZOFFSETTO:-0400
TZNAME:EDT
DTSTART:20180311T070000
END:DAYLIGHT
BEGIN:STANDARD
TZOFFSETFROM:-0400
TZOFFSETTO:-0500
TZNAME:EST
DTSTART:20181104T060000
END:STANDARD
BEGIN:DAYLIGHT
TZOFFSETFROM:-0500
TZOFFSETTO:-0400
TZNAME:EDT
DTSTART:20190310T070000
END:DAYLIGHT
BEGIN:STANDARD
TZOFFSETFROM:-0400
TZOFFSETTO:-0500
TZNAME:EST
DTSTART:20191103T060000
END:STANDARD
END:VTIMEZONE
BEGIN:VTIMEZONE
TZID:America/Denver
BEGIN:DAYLIGHT
TZOFFSETFROM:-0700
TZOFFSETTO:-0600
TZNAME:MDT
DTSTART:20170312T090000
END:DAYLIGHT
BEGIN:STANDARD
TZOFFSETFROM:-0600
TZOFFSETTO:-0700
TZNAME:MST
DTSTART:20171105T080000
END:STANDARD
BEGIN:DAYLIGHT
TZOFFSETFROM:-0700
TZOFFSETTO:-0600
TZNAME:MDT
DTSTART:20180311T090000
END:DAYLIGHT
BEGIN:STANDARD
TZOFFSETFROM:-0600
TZOFFSETTO:-0700
TZNAME:MST
DTSTART:20181104T080000
END:STANDARD
BEGIN:DAYLIGHT
TZOFFSETFROM:-0700
TZOFFSETTO:-0600
TZNAME:MDT
DTSTART:20190310T090000
END:DAYLIGHT
BEGIN:STANDARD
TZOFFSETFROM:-0600
TZOFFSETTO:-0700
TZNAME:MST
DTSTART:20191103T080000
END:STANDARD
END:VTIMEZONE
BEGIN:VEVENT
DTSTART;TZID=America/New_York:20180904T190000
DTEND;TZID=America/New_York:20180904T200000
DTSTAMP:20260420T234646
CREATED:20180611T160354Z
LAST-MODIFIED:20180611T160354Z
UID:1983-1536087600-1536091200@sophfronia.com
SUMMARY:Author Reading\, Lawrence Public Library\, Lawrence\, KS
DESCRIPTION:
URL:https://sophfronia.com/event/author-reading-lawrence-public-library-lawrence-ks/
CATEGORIES:Where is Sophfronia?
ATTACH;FMTTYPE=image/jpeg:https://sophfronia.com/wp-content/uploads/2018/06/lawrencelibrary-e1528732863837.jpg
END:VEVENT
BEGIN:VEVENT
DTSTART;VALUE=DATE:20180714
DTEND;VALUE=DATE:20180721
DTSTAMP:20260420T234646
CREATED:20180213T191010Z
LAST-MODIFIED:20180213T191010Z
UID:1865-1531526400-1532131199@sophfronia.com
SUMMARY:Antioch Writers Workshop\, University of Dayton\, Dayton\, OH
DESCRIPTION:Sophfronia will teach fiction on the morning faculty for this popular writers event.
URL:https://sophfronia.com/event/antioch-writers-workshop-university-of-dayton-dayton-oh/
CATEGORIES:Where is Sophfronia?
ATTACH;FMTTYPE=image/jpeg:https://sophfronia.com/wp-content/uploads/2018/02/undayton-e1518548978116.jpg
END:VEVENT
BEGIN:VEVENT
DTSTART;VALUE=DATE:20180619
DTEND;VALUE=DATE:20180621
DTSTAMP:20260420T234646
CREATED:20180213T190715Z
LAST-MODIFIED:20180213T190715Z
UID:1863-1529366400-1529539199@sophfronia.com
SUMMARY:Keynote Speaker\, Publishing in Color Conference\, New Brunswick Theological Seminary\, New Brunswick\, NJ
DESCRIPTION:The first Publishing in Color conference will serve prospective African American authors and others of African descent. It will take place June 19-20\, 2018 at the New Brunswick Theological Seminary (NBTS) in New Brunswick\, New Jersey.  The beautiful new NBTS facilities are only a short walk from an Amtrak train station with convenient connections to New York City\, Philadelphia\, Baltimore\, Washington DC\, and the Newark airport (EWR).
URL:https://sophfronia.com/event/keynote-speaker-publishing-in-color-conference-new-brunswick-theological-seminary-new-brunswick-nj/
CATEGORIES:Where is Sophfronia?
ATTACH;FMTTYPE=image/jpeg:https://sophfronia.com/wp-content/uploads/2018/02/nbseminary.jpg
END:VEVENT
BEGIN:VEVENT
DTSTART;TZID=America/New_York:20180603T140000
DTEND;TZID=America/New_York:20180603T151500
DTSTAMP:20260420T234646
CREATED:20180602T164224Z
LAST-MODIFIED:20180602T164224Z
UID:1915-1528034400-1528038900@sophfronia.com
SUMMARY:Yale Writers' Workshop\, Craft Talk\, Yale University\, New Haven\, CT
DESCRIPTION:Sophfronia will deliver a craft talk entitled: All About the But: How to Create Narrative Tension \nLinsly-Chittenden Hall (63 High Street) Room 101
URL:https://sophfronia.com/event/yale-writers-workshop-craft-talk-yale-university-new-haven-ct/
CATEGORIES:Where is Sophfronia?
ATTACH;FMTTYPE=image/jpeg:https://sophfronia.com/wp-content/uploads/2018/06/YaleLinslyChittendenHall-e1527957511520.jpg
END:VEVENT
BEGIN:VEVENT
DTSTART;VALUE=DATE:20180428
DTEND;VALUE=DATE:20180429
DTSTAMP:20260420T234646
CREATED:20171129T194053Z
LAST-MODIFIED:20171129T194053Z
UID:1769-1524873600-1524959999@sophfronia.com
SUMMARY:Motherhood & Words Reading\, Loft Literary Center\, Minneapolis\, MN
DESCRIPTION:
URL:https://sophfronia.com/event/motherhood-words-reading-loft-literary-center-minneapolis-mn/
CATEGORIES:Where is Sophfronia?
ATTACH;FMTTYPE=image/jpeg:https://sophfronia.com/wp-content/uploads/2017/11/Loft_Literary_Center-e1511981865656.jpg
END:VEVENT
BEGIN:VEVENT
DTSTART;TZID=America/New_York:20180425T190000
DTEND;TZID=America/New_York:20180425T193000
DTSTAMP:20260420T234646
CREATED:20180213T184820Z
LAST-MODIFIED:20180213T184820Z
UID:1858-1524682800-1524684600@sophfronia.com
SUMMARY:Webinar: Meet the Author\, Practical Resources for Churches
DESCRIPTION:Register at this link. \nJoin author Sophfronia Scott as she discusses the book she wrote with her son\, Tain Gregory\, about the faith journey which began when Tain asked to enroll in Sunday school. The book looks at how a parent can help a child have a real faith as they engage in deep conversations\, pray together\, and get involved in the life of their local church. Tain’s mom realizes the depth  of her son’s faith when he is in third grade and loses a close friend in the Sandy Hook school shootings. Shortly afterward\, he is asked what the most important thing in the world is to him and he replies “God.” Sophfronia Scott lives with her husband and son in Sandy Hook\, Connecticut\, and serves as an acolyte\, chalice minister and librarian at Trinity Episcopal Church in Newtown. Sophfronia teaches creative writing at Regis University’s Mile High MFA and Bay Path University’s MFA in Creative Nonfiction. She is author of the novels “All I Need to Get By” (St. Martin’s Press) and “Unforgivable Love” (William Morrow) as well as an essay collection\, “Love’s Long Line” (Ohio State University Press)\, and a spiritual memoir\, ”A Child of Faith: Raising a Spiritual Being in a Secular World” (Paraclete Press)\, co-written with her son. She holds a BA in English from Harvard and an MFA in writing from Vermont College of Fine Arts. Her website is www.Sophfronia.com.
URL:https://sophfronia.com/event/webinar-meet-the-author-practical-resources-for-churches/
CATEGORIES:Where is Sophfronia?
ATTACH;FMTTYPE=image/jpeg:https://sophfronia.com/wp-content/uploads/2018/02/prcimages.jpeg
END:VEVENT
BEGIN:VEVENT
DTSTART;TZID=America/New_York:20180416T190000
DTEND;TZID=America/New_York:20180416T200000
DTSTAMP:20260420T234646
CREATED:20180213T184538Z
LAST-MODIFIED:20180213T184538Z
UID:1856-1523905200-1523908800@sophfronia.com
SUMMARY:Reading\, Fairfield University Bookstore\, Fairfield\, CT
DESCRIPTION:
URL:https://sophfronia.com/event/reading-fairfield-university-bookstore-fairfield-ct/
CATEGORIES:Where is Sophfronia?
ATTACH;FMTTYPE=image/jpeg:https://sophfronia.com/wp-content/uploads/2017/09/Fairfield_university_Hall-e1505837012135.jpg
END:VEVENT
BEGIN:VEVENT
DTSTART;VALUE=DATE:20180412
DTEND;VALUE=DATE:20180415
DTSTAMP:20260420T234646
CREATED:20171129T193653Z
LAST-MODIFIED:20171129T194228Z
UID:1765-1523491200-1523750399@sophfronia.com
SUMMARY:Panel and Book Signing\, Festival of Faith & Writing\, Grand Rapids\, MI
DESCRIPTION:
URL:https://sophfronia.com/event/panel-and-book-signing-festival-of-faith-writing-grand-rapids-mi/
CATEGORIES:Where is Sophfronia?
ATTACH;FMTTYPE=image/png:https://sophfronia.com/wp-content/uploads/2017/11/FFW-e1511981898547.png
END:VEVENT
BEGIN:VEVENT
DTSTART;TZID=America/New_York:20180323T170000
DTEND;TZID=America/New_York:20180324T170000
DTSTAMP:20260420T234646
CREATED:20171129T193409Z
LAST-MODIFIED:20171129T193409Z
UID:1763-1521824400-1521910800@sophfronia.com
SUMMARY:Spiritual Writing Workshop\, Camp Washington\, Morris\, CT
DESCRIPTION:Writing Your Spiritual Story                                                                                 \nWe all have our own story\, a personal narrative of significant events that make us who we are today. One of the beliefs that make us Episcopalian is that we come to know God through these stories and through the relationships we develop when we share them. In this insightful program novelist and essayist Sophfronia Scott will facilitate a weekend of reading and discovery. On Friday evening participants will consider examples of contemporary spiritual stories and discuss the features that make them “spiritual.” On Saturday we will work with a series of writing prompts so participants can generate their own stories. No need to be an experienced writer. You are already an experienced human being.
URL:https://sophfronia.com/event/spiritual-writing-workshop-camp-washington-morris-ct/
CATEGORIES:Where is Sophfronia?
ATTACH;FMTTYPE=image/jpeg:https://sophfronia.com/wp-content/uploads/2017/11/campwashingtonmainbuilding-e1511981918458.jpg
END:VEVENT
BEGIN:VEVENT
DTSTART;TZID=America/New_York:20180318T140000
DTEND;TZID=America/New_York:20180318T160000
DTSTAMP:20260420T234646
CREATED:20180213T184229Z
LAST-MODIFIED:20180213T184229Z
UID:1854-1521381600-1521388800@sophfronia.com
SUMMARY:Connecticut Authors Reading Series\, Newtown\, CT
DESCRIPTION:Sophfronia curates this ongoing series that introduces readers and writers to the work of authors who live in the Nutmeg State. Refreshments will be served and books will be available for sale.
URL:https://sophfronia.com/event/connecticut-authors-reading-series-newtown-ct-2/
CATEGORIES:Where is Sophfronia?
ATTACH;FMTTYPE=image/jpeg:https://sophfronia.com/wp-content/uploads/2017/05/library-e1495663704276.jpg
END:VEVENT
BEGIN:VEVENT
DTSTART;TZID=America/New_York:20180309T103000
DTEND;TZID=America/New_York:20180309T113000
DTSTAMP:20260420T234646
CREATED:20171129T193123Z
LAST-MODIFIED:20180213T190356Z
UID:1761-1520591400-1520595000@sophfronia.com
SUMMARY:Book Signing\, AWP Conference\, Tampa Convention Center\, Tampa\, FL
DESCRIPTION:Sophfronia will sign copies of her new essay collection\, Love’s Long Line\, at the Ohio State University booth as part of the AWP conference. AWP is the Association of Writers and Writing Programs.
URL:https://sophfronia.com/event/book-signing-awp-conference-tampa-fl/
CATEGORIES:Where is Sophfronia?
ATTACH;FMTTYPE=image/jpeg:https://sophfronia.com/wp-content/uploads/2017/11/tampa-e1511981989999.jpg
END:VEVENT
BEGIN:VEVENT
DTSTART;TZID=America/New_York:20180308T120000
DTEND;TZID=America/New_York:20180308T133000
DTSTAMP:20260420T234646
CREATED:20180213T190232Z
LAST-MODIFIED:20180213T190232Z
UID:1860-1520510400-1520515800@sophfronia.com
SUMMARY:Reading\, AWP Conference\, Tampa Convention Center\, Tampa\, FL
DESCRIPTION:Sophfronia will join her fellow faculty members of Regis University’s Mile-High MFA for a reading celebrating their newly published books. \nTitle: Mile-High MFA Reading\nNumber: R181\nDate/Time: 12:00pm – 1:15pm on Thursday March 8\, 2018\nLocation: Cody D. Todd Memorial Stage\, Sponsored by USC\, Exhibit Hall\, Tampa Convention Center\, Third Floor \nAWP is the Association of Writers and Writing Programs.
URL:https://sophfronia.com/event/reading-awp-conference-tampa-convention-center-tampa-fl/
CATEGORIES:Where is Sophfronia?
ATTACH;FMTTYPE=image/jpeg:https://sophfronia.com/wp-content/uploads/2017/11/tampa-e1511981989999.jpg
END:VEVENT
BEGIN:VEVENT
DTSTART;TZID=America/New_York:20180222T190000
DTEND;TZID=America/New_York:20180222T200000
DTSTAMP:20260420T234646
CREATED:20171129T192846Z
LAST-MODIFIED:20171129T192846Z
UID:1759-1519326000-1519329600@sophfronia.com
SUMMARY:Book Group Discussion\, Bookmark Bookstore\, Brooklyn\, NY
DESCRIPTION:
URL:https://sophfronia.com/event/book-group-discussion-bookmark-bookstore-brooklyn-ny/
CATEGORIES:Where is Sophfronia?
ATTACH;FMTTYPE=image/png:https://sophfronia.com/wp-content/uploads/2017/11/bookmarkshoppe-e1511983621325.png
END:VEVENT
BEGIN:VEVENT
DTSTART;TZID=America/New_York:20180216T140000
DTEND;TZID=America/New_York:20180216T153000
DTSTAMP:20260420T234646
CREATED:20180213T183941Z
LAST-MODIFIED:20180213T183941Z
UID:1852-1518789600-1518795000@sophfronia.com
SUMMARY:Author Visit: Fairfield University\, Fairfield\, CT
DESCRIPTION:Sophfronia Scott will discuss her essays with select English classes.
URL:https://sophfronia.com/event/author-visit-fairfield-university-fairfield-ct/
CATEGORIES:Where is Sophfronia?
ATTACH;FMTTYPE=image/jpeg:https://sophfronia.com/wp-content/uploads/2017/09/Fairfield_university_Hall-e1505837012135.jpg
END:VEVENT
BEGIN:VEVENT
DTSTART;VALUE=DATE:20180124
DTEND;VALUE=DATE:20180127
DTSTAMP:20260420T234646
CREATED:20171129T192128Z
LAST-MODIFIED:20171129T194404Z
UID:1754-1516752000-1517011199@sophfronia.com
SUMMARY:Workshop\, Forma Conference\, Charleston\, SC
DESCRIPTION:Sophfronia Scott and Tain Gregory will present a workshop on raising children of faith.
URL:https://sophfronia.com/event/workshop-forma-conference-charleston-sc/
CATEGORIES:Where is Sophfronia?
ATTACH;FMTTYPE=image/jpeg:https://sophfronia.com/wp-content/uploads/2017/11/charlestonsc-e1511982014395.jpg
END:VEVENT
BEGIN:VEVENT
DTSTART;TZID=America/Denver:20180111T183000
DTEND;TZID=America/Denver:20180111T193000
DTSTAMP:20260420T234646
CREATED:20171129T191923Z
LAST-MODIFIED:20171129T194449Z
UID:1752-1515695400-1515699000@sophfronia.com
SUMMARY:Public Reading\, Mile-High MFA at Regis University\, Denver\, CO
DESCRIPTION:Sophfronia will do a public reading and chat as part of the Mile-High MFA winter residency at Regis University.
URL:https://sophfronia.com/event/public-reading-mile-high-mfa-at-regis-university-denver-co/
CATEGORIES:Where is Sophfronia?
ATTACH;FMTTYPE=image/jpeg:https://sophfronia.com/wp-content/uploads/2017/11/regis-e1511982028213.jpg
END:VEVENT
BEGIN:VEVENT
DTSTART;TZID=America/New_York:20171216T130000
DTEND;TZID=America/New_York:20171216T150000
DTSTAMP:20260420T234646
CREATED:20171129T191419Z
LAST-MODIFIED:20171129T191419Z
UID:1750-1513429200-1513436400@sophfronia.com
SUMMARY:Book Signing\, Barnes & Noble\, Waterbury\, CT
DESCRIPTION:Sophfronia Scott and Tain Gregory will sign copies of This Child of Faith
URL:https://sophfronia.com/event/book-signing-barnes-noble-waterbury-ct/
CATEGORIES:Where is Sophfronia?
ATTACH;FMTTYPE=image/jpeg:https://sophfronia.com/wp-content/uploads/2017/09/bnwaterbury-e1505944883924.jpg
END:VEVENT
BEGIN:VEVENT
DTSTART;TZID=America/New_York:20171207T150000
DTEND;TZID=America/New_York:20171207T170000
DTSTAMP:20260420T234646
CREATED:20171129T190423Z
LAST-MODIFIED:20171129T190506Z
UID:1745-1512658800-1512666000@sophfronia.com
SUMMARY:Women On Fire Tea and Book Signing\, Mozart's Cafe\, Columbus\, OH
DESCRIPTION:
URL:https://sophfronia.com/event/women-on-fire-tea-and-book-signing-mozarts-cafe-columbus-oh/
CATEGORIES:Where is Sophfronia?
ATTACH;FMTTYPE=image/jpeg:https://sophfronia.com/wp-content/uploads/2017/11/mozartscafecolumbus-e1511982046818.jpg
END:VEVENT
BEGIN:VEVENT
DTSTART;TZID=America/New_York:20171203T150000
DTEND;TZID=America/New_York:20171203T170000
DTSTAMP:20260420T234646
CREATED:20171102T202907Z
LAST-MODIFIED:20171102T202907Z
UID:1715-1512313200-1512320400@sophfronia.com
SUMMARY:Authors' Series Talk and Book Signing\, GaelVentures at Iona College\, New Rochelle\, NY
DESCRIPTION:The Greater Hudson Valley (NY) Chapter\, The Links\, Incorporated and the Hynes Institute for Entrepreneurship and Innovation invite you to attend our Authors’ Series Talk and Book Signing. \nFeatured Authors: \nSophfronia Scott\, “Unforgivable Love” \nTiffany Jackson\, “allegedly” \nSandra Roberts\, “Rice & Rocks” \nTeresa Delgado\, “A Puerto Rican Decolonial Theology“ \nLight Refreshments will be Served
URL:https://sophfronia.com/event/authors-series-talk-and-book-signing-gaelventures-at-iona-college-new-rochelle-ny/
LOCATION:GaelVentures\, 748 North Avenue\, New Rochelle\, NY\, 10801\, United States
CATEGORIES:Where is Sophfronia?
ATTACH;FMTTYPE=image/jpeg:https://sophfronia.com/wp-content/uploads/2017/11/IonaCollege-e1509653672325.jpg
END:VEVENT
BEGIN:VEVENT
DTSTART;TZID=America/New_York:20171203T120000
DTEND;TZID=America/New_York:20171203T140000
DTSTAMP:20260420T234646
CREATED:20171129T191001Z
LAST-MODIFIED:20171129T191039Z
UID:1747-1512302400-1512309600@sophfronia.com
SUMMARY:Newtown Holiday Festival Book Signing\, Trinity Episcopal Church\, Newtown\, CT
DESCRIPTION:Spiritual Book Table  — Local Authors and Christmas Books! \nParaclete Press\, publisher of This Child of Faith: Raising a Spiritual Child in a Secular World  by  Sophfronia Scott and Tain Gregory\, is hosting a book table that will feature Advent and Christmas titles for children and adults. Also featured is My Favorite Color is Blue. Sometimes\, — A Journey through Loss with Art and Color by Roger Hutchison who wrote this book after painting with children from Sandy Hook Elementary. Come and browse our beautiful titles for the season.  Receive a free copy of Essential Christmas Prayers with any purchase of 3 or more books. \nSophfronia Scott and Tain Gregory will be at the table from 12 – 2  to sign copies of This Child of Faith. \n 
URL:https://sophfronia.com/event/newtown-holiday-festival-trinity-episcopal-church-newtown-ct/
CATEGORIES:Where is Sophfronia?
ATTACH;FMTTYPE=image/jpeg:https://sophfronia.com/wp-content/uploads/2017/11/holidaylights-e1511982062140.jpg
END:VEVENT
BEGIN:VEVENT
DTSTART;TZID=America/New_York:20171111T160000
DTEND;TZID=America/New_York:20171111T170000
DTSTAMP:20260420T234646
CREATED:20171004T204317Z
LAST-MODIFIED:20171004T204541Z
UID:1660-1510416000-1510419600@sophfronia.com
SUMMARY:Reading and Book Signing\, River Road Books\, Fair Haven\, NJ
DESCRIPTION:Sophfronia will read and sign books as well as discuss the writing of Unforgivable Love.
URL:https://sophfronia.com/event/reading-and-book-signing-river-road-books-fair-haven-nj/
LOCATION:River Road Books\, 759 River Rd\, Fair Haven\, NJ\, 07704\, United States
CATEGORIES:Where is Sophfronia?
ATTACH;FMTTYPE=image/jpeg:https://sophfronia.com/wp-content/uploads/2017/10/riverroadbooks-e1507149667610.jpg
END:VEVENT
BEGIN:VEVENT
DTSTART;TZID=America/New_York:20171109T183000
DTEND;TZID=America/New_York:20171109T203000
DTSTAMP:20260420T234646
CREATED:20170524T235457Z
LAST-MODIFIED:20170823T001921Z
UID:1440-1510252200-1510259400@sophfronia.com
SUMMARY:John Oliver Killens Reading Series\, Medgar Evers Center for Black Literature\, City University of New York\, Brooklyn\, NY
DESCRIPTION:The Center for Black Literature at Medgar Evers College\, CUNY\, presents a discussion and reading with Sophfronia Scott\, author of Unforgivable Love: A Retelling of Dangerous Liaisons. Scott\, whose first novel\, All I Need to Get By (St. Martin’s Press\, 2004)\, was hailed by Professor Henry Louis Gates Jr. as “potentially one of the best writers of her generation.” \nFor more information on the event\, including how to RSVP\, check out our website! \nhttp://centerforblackliterature.org/an-evening-with-sophfronia-scott-a-part-of-the-john-oliver-killens-reading-series/
URL:https://sophfronia.com/event/john-oliver-killens-reading-series-medgar-evers-center-for-black-literature-city-university-of-new-york-brooklyn-ny/
CATEGORIES:Where is Sophfronia?
ATTACH;FMTTYPE=image/jpeg:https://sophfronia.com/wp-content/uploads/2017/05/medgareverscollege-e1495670070515.jpg
END:VEVENT
BEGIN:VEVENT
DTSTART;TZID=America/New_York:20171106T190000
DTEND;TZID=America/New_York:20171106T210000
DTSTAMP:20260420T234646
CREATED:20170919T160810Z
LAST-MODIFIED:20171102T201915Z
UID:1608-1509994800-1510002000@sophfronia.com
SUMMARY:Author Event\, Alma College Library\, Alma\, MI
DESCRIPTION:Church\, Jazz\, Fashion\, & Baseball: Transporting an 18th-Century French Classic to 1940s Harlem \nPlease join Dr. Bob Vivian for a conversation with author Sophfronia Scott\, on researching her newest novel\, Unforgivable Love.  “A vivid reimagining of the French classic Dangerous Liaisons\, set in the dazzling\, dramatic world of Harlem in the 1940s\, this ‘elegant page turner’ will introduce readers to both café society and upper crust Harlem that existed in the time.  Ms. Scott will read from her book and will take questions from the audience.  Reception and book signing to follow.
URL:https://sophfronia.com/event/visiting-writing-alma-college-alma-mi/
LOCATION:Alma College\, 614 W. Superior St\, Alma\, MI\, 48801\, United States
CATEGORIES:Where is Sophfronia?
ATTACH;FMTTYPE=image/jpeg:https://sophfronia.com/wp-content/uploads/2017/09/alma-e1505837031554.jpg
END:VEVENT
BEGIN:VEVENT
DTSTART;TZID=America/New_York:20171104T130000
DTEND;TZID=America/New_York:20171104T143000
DTSTAMP:20260420T234646
CREATED:20170920T220321Z
LAST-MODIFIED:20170920T220321Z
UID:1611-1509800400-1509805800@sophfronia.com
SUMMARY:Bookstore Event: In Conversation With Author Heather Webb\, Barnes & Noble\, Waterbury\, CT
DESCRIPTION:
URL:https://sophfronia.com/event/bookstore-event-in-conversation-with-author-heather-webb-barnes-noble-waterbury-ct/
CATEGORIES:Where is Sophfronia?
ATTACH;FMTTYPE=image/jpeg:https://sophfronia.com/wp-content/uploads/2017/09/bnwaterbury-e1505944883924.jpg
END:VEVENT
BEGIN:VEVENT
DTSTART;TZID=America/New_York:20171103T190000
DTEND;TZID=America/New_York:20171103T210000
DTSTAMP:20260420T234646
CREATED:20171102T202502Z
LAST-MODIFIED:20171102T202502Z
UID:1712-1509735600-1509742800@sophfronia.com
SUMMARY:Reading\, The Carson McCullers House\, Nyack\, NY
DESCRIPTION:An evening of open mic readings and music followed by a reading by featured author Sophfronia Scott.\n\n\nHosted by River River and The Carson McCullers Center for Writers and Musicians
URL:https://sophfronia.com/event/reading-the-carson-mccullers-house-nyack-ny/
LOCATION:Carson McCullers House\, 131 S. Broadway\, Nyack\, NY\, United States
CATEGORIES:Where is Sophfronia?
ATTACH;FMTTYPE=image/jpeg:https://sophfronia.com/wp-content/uploads/2017/11/CarsonMcCullersHouse-e1509653690830.jpg
END:VEVENT
BEGIN:VEVENT
DTSTART;VALUE=DATE:20171026
DTEND;VALUE=DATE:20171030
DTSTAMP:20260420T234646
CREATED:20170907T151143Z
LAST-MODIFIED:20170907T151313Z
UID:1592-1508976000-1509321599@sophfronia.com
SUMMARY:Meacham Writers' Workshop\, Chattanooga\, TN
DESCRIPTION:Sophfronia will be a visiting writer at this renown conference held on the campuses of the University of Tennessee at Chattanooga and Chattanooga State Community College. \nFrom the conference website: The Meacham Writers’ Workshop is supported primarily by an endowment funded by the late Jean Meacham in honor of her husband\, Ellis K. Meacham. Occurring each fall and spring\, the workshop is free and open to the public; there is no registration. The program consists of readings\, discussion sessions\, and group conferences. The philosophy of the workshop is to provide support but also honest and direct criticism for developing writers. The atmosphere is informal\, and there are many opportunities for lunch and other casual meetings. The conference welcomes non-writers who are avid readers of contemporary prose and poetry\, as well as school groups. The conference is open to persons of all age\, race\, religion\, sex\, veteran status\, national origin\, or disability.
URL:https://sophfronia.com/event/meacham-writers-workshop-chattanooga-tn/
CATEGORIES:Where is Sophfronia?
ATTACH;FMTTYPE=image/jpeg:https://sophfronia.com/wp-content/uploads/2017/09/downtownchattanooga-e1504796664971.jpg
END:VEVENT
BEGIN:VEVENT
DTSTART;VALUE=DATE:20171019
DTEND;VALUE=DATE:20171020
DTSTAMP:20260420T234646
CREATED:20170524T234712Z
LAST-MODIFIED:20170524T234806Z
UID:1435-1508371200-1508457599@sophfronia.com
SUMMARY:Author Reading\, State University of New York\, Plattsburgh\, Plattsburgh\, NY
DESCRIPTION:
URL:https://sophfronia.com/event/author-reading-state-university-of-new-york-plattsburgh/
CATEGORIES:Where is Sophfronia?
ATTACH;FMTTYPE=image/jpeg:https://sophfronia.com/wp-content/uploads/2017/05/plattsburgh-e1495669610649.jpg
END:VEVENT
BEGIN:VEVENT
DTSTART;TZID=America/New_York:20171017T190000
DTEND;TZID=America/New_York:20171017T200000
DTSTAMP:20260420T234646
CREATED:20170823T004206Z
LAST-MODIFIED:20170823T004206Z
UID:1560-1508266800-1508270400@sophfronia.com
SUMMARY:Reading and Book Signing\, RJ Julia Wesleyan\, Middletown\, CT
DESCRIPTION:
URL:https://sophfronia.com/event/reading-and-book-signing-rj-julia-wesleyan-middletown-ct/
CATEGORIES:Where is Sophfronia?
ATTACH;FMTTYPE=image/jpeg:https://sophfronia.com/wp-content/uploads/2017/08/cam_bookstore_2017-e1503448324338.jpg
END:VEVENT
BEGIN:VEVENT
DTSTART;TZID=America/New_York:20171011T190000
DTEND;TZID=America/New_York:20171011T203000
DTSTAMP:20260420T234646
CREATED:20170823T003853Z
LAST-MODIFIED:20170823T003853Z
UID:1553-1507748400-1507753800@sophfronia.com
SUMMARY:Author Talk\, Ridgefield Public Library\, Ridgefield\, CT
DESCRIPTION:Ridgefield Library and Books on the Common are pleased to welcome Sophfronia Scott who will disccuss her recently released novel Unforgivable Love.  \nScott was nominated for best new author at the African American Literary Awards and hailed by Professor Henry Louis Gates\, Jr. as “potentially one of the best writers of her generation.” Her essays\, short stories\, and articles have appeared in Killens Review of Arts & Letters\, Saranac Review\, Numéro Cinq\, Ruminate\, Barnstorm Literary Journal\, Sleet Magazine\, NewYorkTimes.com\, More\, and O\, The Oprah Magazine. \nUnforgivable Love is set in the glittering\, dramatic world of Harlem in the summer of 1947 – Jackie Robinson has broken the color barrier in major league baseball and temperatures are skyrocketing. Mae Malveaux and Valiant Jackson\, two powerful schemers who are both very accustomed to getting what they want\, are caught up in a thrilling game of cat and mouse with very real consequences\, where innocence is the prize. But they are unprepared for what can happen between a woman and man when the thrill of the chase spirals wildly out of control. Scott deftly tackles themes of love\, faith\, lost innocence\, betrayal\, and redemption in this stunningly original novel. \n“…An elegant page turner that transcends time and place.”—Bret Lott New York Times bestselling author of Jewel \nBooks will be available for sale and signing at the event.
URL:https://sophfronia.com/event/author-talk-ridgefield-public-library-ridgefield-ct/
LOCATION:Ridgefield Public Library\, 472 Main Street\, Ridgefield\, CT\, 06877\, United States
CATEGORIES:Where is Sophfronia?
ATTACH;FMTTYPE=image/jpeg:https://sophfronia.com/wp-content/uploads/2017/08/ridgefieldlibrary-e1503448360404.jpg
END:VEVENT
BEGIN:VEVENT
DTSTART;TZID=America/New_York:20171005T190000
DTEND;TZID=America/New_York:20171005T203000
DTSTAMP:20260420T234646
CREATED:20170823T004625Z
LAST-MODIFIED:20170823T004625Z
UID:1562-1507230000-1507235400@sophfronia.com
SUMMARY:Author Talk\, C.H. Booth Library\, Newtown\, CT
DESCRIPTION:
URL:https://sophfronia.com/event/author-talk-c-h-booth-library-newtown-ct/
CATEGORIES:Where is Sophfronia?
ATTACH;FMTTYPE=image/jpeg:https://sophfronia.com/wp-content/uploads/2017/05/library-e1495663704276.jpg
END:VEVENT
END:VCALENDAR