BEGIN:VCALENDAR
VERSION:2.0
PRODID:-//Sophfronia Scott - ECPv6.15.20//NONSGML v1.0//EN
CALSCALE:GREGORIAN
METHOD:PUBLISH
X-WR-CALNAME:Sophfronia Scott
X-ORIGINAL-URL:https://sophfronia.com
X-WR-CALDESC:Events for Sophfronia Scott
REFRESH-INTERVAL;VALUE=DURATION:PT1H
X-Robots-Tag:noindex
X-PUBLISHED-TTL:PT1H
BEGIN:VTIMEZONE
TZID:America/New_York
BEGIN:DAYLIGHT
TZOFFSETFROM:-0500
TZOFFSETTO:-0400
TZNAME:EDT
DTSTART:20170312T070000
END:DAYLIGHT
BEGIN:STANDARD
TZOFFSETFROM:-0400
TZOFFSETTO:-0500
TZNAME:EST
DTSTART:20171105T060000
END:STANDARD
BEGIN:DAYLIGHT
TZOFFSETFROM:-0500
TZOFFSETTO:-0400
TZNAME:EDT
DTSTART:20180311T070000
END:DAYLIGHT
BEGIN:STANDARD
TZOFFSETFROM:-0400
TZOFFSETTO:-0500
TZNAME:EST
DTSTART:20181104T060000
END:STANDARD
BEGIN:DAYLIGHT
TZOFFSETFROM:-0500
TZOFFSETTO:-0400
TZNAME:EDT
DTSTART:20190310T070000
END:DAYLIGHT
BEGIN:STANDARD
TZOFFSETFROM:-0400
TZOFFSETTO:-0500
TZNAME:EST
DTSTART:20191103T060000
END:STANDARD
BEGIN:DAYLIGHT
TZOFFSETFROM:-0500
TZOFFSETTO:-0400
TZNAME:EDT
DTSTART:20200308T070000
END:DAYLIGHT
BEGIN:STANDARD
TZOFFSETFROM:-0400
TZOFFSETTO:-0500
TZNAME:EST
DTSTART:20201101T060000
END:STANDARD
END:VTIMEZONE
BEGIN:VTIMEZONE
TZID:America/Chicago
BEGIN:DAYLIGHT
TZOFFSETFROM:-0600
TZOFFSETTO:-0500
TZNAME:CDT
DTSTART:20170312T080000
END:DAYLIGHT
BEGIN:STANDARD
TZOFFSETFROM:-0500
TZOFFSETTO:-0600
TZNAME:CST
DTSTART:20171105T070000
END:STANDARD
BEGIN:DAYLIGHT
TZOFFSETFROM:-0600
TZOFFSETTO:-0500
TZNAME:CDT
DTSTART:20180311T080000
END:DAYLIGHT
BEGIN:STANDARD
TZOFFSETFROM:-0500
TZOFFSETTO:-0600
TZNAME:CST
DTSTART:20181104T070000
END:STANDARD
BEGIN:DAYLIGHT
TZOFFSETFROM:-0600
TZOFFSETTO:-0500
TZNAME:CDT
DTSTART:20190310T080000
END:DAYLIGHT
BEGIN:STANDARD
TZOFFSETFROM:-0500
TZOFFSETTO:-0600
TZNAME:CST
DTSTART:20191103T070000
END:STANDARD
END:VTIMEZONE
BEGIN:VEVENT
DTSTART;TZID=America/New_York:20190203T100000
DTEND;TZID=America/New_York:20190203T230000
DTSTAMP:20260421T011635
CREATED:20190119T191829Z
LAST-MODIFIED:20190119T191829Z
UID:2327-1549188000-1549234800@sophfronia.com
SUMMARY:Book Talk with Tain Gregory\, Trinity Church Wall Street\, New York\, NY
DESCRIPTION:Sophfronia Scott and her son Tain Gregory will speak about their book\, This Child of Faith\, Raising a Spiritual Child in a Secular World\, during the 10am Education Hour at Trinity Church Wall Street. \n 
URL:https://sophfronia.com/event/book-talk-with-tain-gregory-trinity-church-wall-street-new-york-ny/
LOCATION:Trinity Church\, 75 Broadway\, New York\, NY\, 10006\, United States
CATEGORIES:Where is Sophfronia?
ATTACH;FMTTYPE=image/jpeg:https://sophfronia.com/wp-content/uploads/2019/01/Trinitychurchnyc-e1547923723413.jpg
END:VEVENT
BEGIN:VEVENT
DTSTART;VALUE=DATE:20190127
DTEND;VALUE=DATE:20190131
DTSTAMP:20260421T011635
CREATED:20180630T203547Z
LAST-MODIFIED:20180731T170525Z
UID:2045-1548547200-1548892799@sophfronia.com
SUMMARY:Visiting Writer\, Hope College\, Holland\, MI
DESCRIPTION:Sophfronia will visit with classes in the English Department and give a public reading from her work on January 29 at 7pm in the Recital Hall\, Jack H. Miller Center.
URL:https://sophfronia.com/event/visiting-writer-hope-college-holland-mi/
CATEGORIES:Where is Sophfronia?
ATTACH;FMTTYPE=image/jpeg:https://sophfronia.com/wp-content/uploads/2018/06/hopecollege-e1530390168401.jpg
ORGANIZER;CN="Susanna Childress":MAILTO:childress@hope.edu
END:VEVENT
BEGIN:VEVENT
DTSTART;TZID=America/New_York:20190123T190000
DTEND;TZID=America/New_York:20190123T200000
DTSTAMP:20260421T011635
CREATED:20181126T024330Z
LAST-MODIFIED:20181126T024330Z
UID:2212-1548270000-1548273600@sophfronia.com
SUMMARY:Conversation and Book Signing with Tain Gregory\, New York\, NY
DESCRIPTION:Sophfronia Scott and her son Tain Gregory will speak about and sign copies of their book\, This Child of Faith: Raising a Spiritual Child in a Secular World.
URL:https://sophfronia.com/event/conversation-and-book-signing-with-tain-gregory-new-york-ny/
LOCATION:Logos Bookstore\, 1575 York Avenue\, New York\, NY\, 10028\, United States
CATEGORIES:Where is Sophfronia?
ATTACH;FMTTYPE=image/jpeg:https://sophfronia.com/wp-content/uploads/2018/11/LogosBookStorefront-542x388_c.jpg
END:VEVENT
BEGIN:VEVENT
DTSTART;TZID=America/New_York:20181210T180000
DTEND;TZID=America/New_York:20181210T200000
DTSTAMP:20260421T011635
CREATED:20181128T184008Z
LAST-MODIFIED:20181128T184008Z
UID:2229-1544464800-1544472000@sophfronia.com
SUMMARY:Hobart Festival of Women Writers Holiday Reading and Party\, New York\, NY
DESCRIPTION:The Hobart Festival of Women Writers Calendar Committee is hosting a Holiday reading by the writers featured in the group’s inaugural Festival calendar. Each writer will do a three-minute flash reading. Wine and snacks will be served. Calendars will be available for sale as well as books by the participating writers.
URL:https://sophfronia.com/event/hobart-festival-of-women-writers-holiday-reading-and-party-new-york-ny/
LOCATION:National Writers Union\, 256 West 38th St.\, 12th Floor\, New York\, NY\, United States
CATEGORIES:Where is Sophfronia?
ATTACH;FMTTYPE=image/jpeg:https://sophfronia.com/wp-content/uploads/2018/11/Nyc-e1543430049510.jpg
END:VEVENT
BEGIN:VEVENT
DTSTART;TZID=America/New_York:20181208T150000
DTEND;TZID=America/New_York:20181208T170000
DTSTAMP:20260421T011635
CREATED:20181128T182526Z
LAST-MODIFIED:20181128T182625Z
UID:2223-1544281200-1544288400@sophfronia.com
SUMMARY:Authors Series Talk and Book Signing\, Iona College\, New Rochelle\, NY
DESCRIPTION:Sophfronia Scott joins Tiffany D. Jackson\, author of Allegedly\, and Dorinda Walker\, author of Protected By Purpose\, for an afternoon of craft talk and book signings. The event is sponsored by The Links\, Incorporated and its Mosaic Mentoring Program. \nRSVP at this link: \nhttps://www.evite.com/event/023245YWUMDJY434YEPI5WQ3QRFORI/activity
URL:https://sophfronia.com/event/authors-series-talk-and-book-signing/
LOCATION:Iona College\, Faculty Lounge—Spellman Hall\, New Rochelle\, NY\, 10801\, United States
CATEGORIES:Where is Sophfronia?
ATTACH;FMTTYPE=image/jpeg:https://sophfronia.com/wp-content/uploads/2017/11/IonaCollege-e1509653672325.jpg
END:VEVENT
BEGIN:VEVENT
DTSTART;TZID=America/Chicago:20181201T160000
DTEND;TZID=America/Chicago:20181201T170000
DTSTAMP:20260421T011635
CREATED:20181126T023742Z
LAST-MODIFIED:20181126T023742Z
UID:2209-1543680000-1543683600@sophfronia.com
SUMMARY:Reading: Inspired Author Holiday Event\, Chicago\, IL
DESCRIPTION:Sophfronia Scott opens the inspired author series offered by Debi Lilly’s A Perfect Event. The event will feature Sophfronia reading from her latest book\, Love’s Long Line.  \nNote from Debi Lilly: “This powerful\, beautiful story about mothers\, sons\, daughters and hope brings all the life lessons. Perfect for holiday gifting – let us know if we can hold or send your signed\, personalized copy right to your door.”
URL:https://sophfronia.com/event/reading-inspired-author-holiday-event-chicago-il/
LOCATION:DL Studio\, 3050 N. Lincoln\, Chicago\, United States
CATEGORIES:Where is Sophfronia?
ATTACH;FMTTYPE=image/jpeg:https://sophfronia.com/wp-content/uploads/2018/11/ChicagoEventImage-e1543199323628.jpg
END:VEVENT
BEGIN:VEVENT
DTSTART;VALUE=DATE:20181102
DTEND;VALUE=DATE:20181104
DTSTAMP:20260421T011635
CREATED:20180611T161335Z
LAST-MODIFIED:20180611T162211Z
UID:1991-1541116800-1541289599@sophfronia.com
SUMMARY:Southeast Wisconsin Festival of Books\, University of Wisconsin-Waukesha\, WI
DESCRIPTION:
URL:https://sophfronia.com/event/southeast-wisconsin-festival-of-books-university-of-wisconsin-waukesha/
CATEGORIES:Where is Sophfronia?
ATTACH;FMTTYPE=image/png:https://sophfronia.com/wp-content/uploads/2018/06/sewf2-e1528732796722.png
END:VEVENT
BEGIN:VEVENT
DTSTART;VALUE=DATE:20181101
DTEND;VALUE=DATE:20181104
DTSTAMP:20260421T011635
CREATED:20180630T204249Z
LAST-MODIFIED:20180630T204249Z
UID:2048-1541030400-1541289599@sophfronia.com
SUMMARY:Panelist\, NonfictioNOW Conference\, Phoenix\, AZ
DESCRIPTION:Sophfronia will speak on the panel “Not Your Mother’s University Press: Publishing Nonfiction with Academic Presses” \nPANEL DESCRIPTION: Determining where to submit nonfiction books in the mass of trade\, academic\, and indie presses is often more of an essayist exploration than the writing process itself. Writers who have published memoirs\, essay collections\, and hybrid texts with The Ohio State University Press will discuss how an academic press became the unlikely home for work that challenged genre conventions and examined complex subject matter like mental health\, sexuality and the armed services\, faith\, motherhood\, and race. This group of writers will discuss the experience of publishing with a university press\, reading a section of their work before reflecting on their process\, work with editors\, marketing and release. \nPanelists: \nKristen Elias Rowley\, Editor in Chief\, The Ohio State University Press \nAnthony Moll\, Writer \nSophfronia Scott\, Writer \nSarah Fawn Montgomery\, Writer \nKathryn Nuernberger\, Writer
URL:https://sophfronia.com/event/panelist-nonfictionow-conference-phoenix-az/
CATEGORIES:Where is Sophfronia?
ATTACH;FMTTYPE=image/jpeg:https://sophfronia.com/wp-content/uploads/2018/06/nonfictionnowphoenix-e1530390149442.jpg
END:VEVENT
BEGIN:VEVENT
DTSTART;VALUE=DATE:20181027
DTEND;VALUE=DATE:20181029
DTSTAMP:20260421T011635
CREATED:20180611T160830Z
LAST-MODIFIED:20180611T160830Z
UID:1989-1540598400-1540771199@sophfronia.com
SUMMARY:Workshop and Sermons\, Trinity Episcopal Church\, Asheville\, NC
DESCRIPTION:
URL:https://sophfronia.com/event/workshop-and-sermons-trinity-episcopal-church-asheville-nc/
CATEGORIES:Where is Sophfronia?
ATTACH;FMTTYPE=image/jpeg:https://sophfronia.com/wp-content/uploads/2018/06/trinityasheville-e1528732904253.jpg
END:VEVENT
BEGIN:VEVENT
DTSTART;TZID=America/New_York:20181021T140000
DTEND;TZID=America/New_York:20181021T160000
DTSTAMP:20260421T011635
CREATED:20180918T215747Z
LAST-MODIFIED:20180918T215747Z
UID:2141-1540130400-1540137600@sophfronia.com
SUMMARY:Connecticut Authors Reading Series\, C.H. Booth Library\, Newtown\, CT
DESCRIPTION:Sophfronia hosts the latest reading in this series she curates featuring authors who live and write in the Nutmeg State. The authors also discuss the writing craft and sign copies of their new books. Refreshments will be served. Participating writers include: \nGeorgia Hunter\, We Were the Lucky Ones (Penguin\, 2018)\nBetsy Lerner\, The Bridge Ladies (Harper Perennial\, 2017)\nMarilyn Simon Rothstein\, Husbands and Other Sharp Objects (Lake Union\, 2018) and Lift and Separate (Lake Union\, 2016).\nTom Seigel\, The Astronaut’s Son\, (Woodhall Press\, 2018)-debut novel.
URL:https://sophfronia.com/event/connecticut-authors-reading-series-c-h-booth-library-newtown-ct/
LOCATION:C.H. Booth Library\, 25 Main Street\, Newtown\, CT\, 06470\, United States
CATEGORIES:Where is Sophfronia?
ATTACH;FMTTYPE=image/jpeg:https://sophfronia.com/wp-content/uploads/2017/05/library-e1495663704276.jpg
END:VEVENT
BEGIN:VEVENT
DTSTART;TZID=America/New_York:20181018T190000
DTEND;TZID=America/New_York:20181018T200000
DTSTAMP:20260421T011635
CREATED:20180925T004719Z
LAST-MODIFIED:20180925T004936Z
UID:2152-1539889200-1539892800@sophfronia.com
SUMMARY:Book Group\, St. Paul's Episcopal Church\, Fairfield\, CT
DESCRIPTION:Sophfronia will join the book group at St. Paul’s Episcopal Church when they discuss This Child of Faith: Raising a Spiritual Child in a Secular World\, and enjoy an evening of fellowship\, abundant snacks and lively discussion.
URL:https://sophfronia.com/event/st-pauls-book-group-fairfield-ct/
CATEGORIES:Where is Sophfronia?
ATTACH;FMTTYPE=image/jpeg:https://sophfronia.com/wp-content/uploads/2018/06/stpauls-e1530390122442.jpg
END:VEVENT
BEGIN:VEVENT
DTSTART;TZID=America/New_York:20181017T100000
DTEND;TZID=America/New_York:20181017T150000
DTSTAMP:20260421T011635
CREATED:20180919T130248Z
LAST-MODIFIED:20180919T130248Z
UID:2148-1539770400-1539788400@sophfronia.com
SUMMARY:Workshop\, Drew University Theological School\, Madison\, NJ
DESCRIPTION:Sophfronia will present in a workshop intensive taught by Rev. Nancy Lynne Westfield\, Ph.D.
URL:https://sophfronia.com/event/workshop-drew-university-theological-school-madison-nj/
CATEGORIES:Where is Sophfronia?
ATTACH;FMTTYPE=image/jpeg:https://sophfronia.com/wp-content/uploads/2018/09/drew-theology-college-e1537360862232.jpg
END:VEVENT
BEGIN:VEVENT
DTSTART;VALUE=DATE:20181014
DTEND;VALUE=DATE:20181015
DTSTAMP:20260421T011635
CREATED:20171129T193827Z
LAST-MODIFIED:20180611T155634Z
UID:1767-1539475200-1539561599@sophfronia.com
SUMMARY:Bay Path Writers Day\, Bay Path University\, Longmeadow\, MA
DESCRIPTION:Join other aspiring and published writers for Bay Path’s 17th Writers’ Day featuring Karol Jackowski\, Sophfronia Scott\, Lisa Romeo\, Suzanne Strempek Shea and Jonathan Green \nPlease Note: The new location will be Bay Path’s East Longmeadow\, MA campus\, the Philip H. Ryan Health Center. Registration and check-in begin at 11:45 a.m.\, and continue throughout the sessions.\n\nFor more information:\n\nhttps://www.baypath.edu/events-calendar/community-events/writers-day/\n\nTo register:\n\nhttps://www.eventbrite.com/e/bay-path-universitys-17th-writers-day-tickets-43661786579
URL:https://sophfronia.com/event/bay-path-writers-day-bay-path-university-longmeadow-ma/
CATEGORIES:Where is Sophfronia?
ATTACH;FMTTYPE=image/jpeg:https://sophfronia.com/wp-content/uploads/2017/11/baypath-e1511981883910.jpg
END:VEVENT
BEGIN:VEVENT
DTSTART;VALUE=DATE:20181004
DTEND;VALUE=DATE:20181008
DTSTAMP:20260421T011635
CREATED:20180611T160713Z
LAST-MODIFIED:20180611T160713Z
UID:1987-1538611200-1538956799@sophfronia.com
SUMMARY:River Pretty Writers Retreat\, Tecumseh\, MO
DESCRIPTION:
URL:https://sophfronia.com/event/river-pretty-writers-retreat-tecumseh-mo/
CATEGORIES:Where is Sophfronia?
ATTACH;FMTTYPE=image/jpeg:https://sophfronia.com/wp-content/uploads/2018/06/dawtmill-e1528732927488.jpg
END:VEVENT
BEGIN:VEVENT
DTSTART;VALUE=DATE:20180926
DTEND;VALUE=DATE:20180927
DTSTAMP:20260421T011635
CREATED:20180919T125909Z
LAST-MODIFIED:20180919T125909Z
UID:2146-1537920000-1538006399@sophfronia.com
SUMMARY:Public Lunch Forum\, Drew University Theological School\, Madison\, NJ
DESCRIPTION:Sophfronia will meet with students\, give a public reading\, and afterwards be interviewed by Rev. Nancy Lynne Westfield\, Ph.D.
URL:https://sophfronia.com/event/public-lunch-forum-drew-university-theological-school-madison-nj/
CATEGORIES:Where is Sophfronia?
ATTACH;FMTTYPE=image/jpeg:https://sophfronia.com/wp-content/uploads/2018/09/drew-theology-college-e1537360862232.jpg
END:VEVENT
BEGIN:VEVENT
DTSTART;TZID=America/New_York:20180923T190000
DTEND;TZID=America/New_York:20180923T203000
DTSTAMP:20260421T011635
CREATED:20180917T015707Z
LAST-MODIFIED:20180917T020159Z
UID:2127-1537729200-1537734600@sophfronia.com
SUMMARY:American Theater Group: Affairs of Midnight\, South Orange Performing Arts Center\,  South Orange\, NJ
DESCRIPTION:American Theater Group presents a staged reading of Affairs of Midnight by Sophfronia Scott. \nHarlem\, 1947. A Nightclub owner meets a society lady in a tale of romance\, intrigue\, and betrayal. Based on the classic story Les Liaisons Dangereuses. Directed by Marshall Jones III. \nA reading in the SOPAC Loft\nTickets: $10 in advance\, $15 at the door
URL:https://sophfronia.com/event/american-theater-group-affairs-of-midnight/
LOCATION:South Orange Performing Arts Center\, 1 Sopac Way\, South Orange\, NJ\, 07079\, United States
CATEGORIES:Where is Sophfronia?
ATTACH;FMTTYPE=image/jpeg:https://sophfronia.com/wp-content/uploads/2018/09/1EventPostFeature600x250-e1537149144638.jpg
END:VEVENT
BEGIN:VEVENT
DTSTART;TZID=America/New_York:20180923T080000
DTEND;TZID=America/New_York:20180923T120000
DTSTAMP:20260421T011635
CREATED:20180630T202849Z
LAST-MODIFIED:20180630T202849Z
UID:2042-1537689600-1537704000@sophfronia.com
SUMMARY:Workshop and Sermons\, St. Paul's Episcopal Church\, Fairfield\, CT
DESCRIPTION:Sophfronia will preach at the 8am and 9:30 am services in addition to speaking\, along with her son Tain\, about their book\, This Child of Faith and raising a spiritual child in a secular world.
URL:https://sophfronia.com/event/workshop-and-sermons-st-pauls-episcopal-church-fairfield-ct/
LOCATION:St. Paul’s Episcopal Church\, Fairfield\, CT\, 661 Old Post Road\, Fairfield\, CT\, 06824\, United States
CATEGORIES:Where is Sophfronia?
ATTACH;FMTTYPE=image/jpeg:https://sophfronia.com/wp-content/uploads/2018/06/stpauls-e1530390122442.jpg
END:VEVENT
BEGIN:VEVENT
DTSTART;TZID=America/New_York:20180920T190000
DTEND;TZID=America/New_York:20180920T203000
DTSTAMP:20260421T011635
CREATED:20180611T160541Z
LAST-MODIFIED:20180611T160541Z
UID:1985-1537470000-1537475400@sophfronia.com
SUMMARY:Book Club Meeting\, Silas Bronson Library\, Waterbury\, CT
DESCRIPTION:
URL:https://sophfronia.com/event/book-club-meeting-silas-bronson-library-waterbury-ct/
CATEGORIES:Where is Sophfronia?
ATTACH;FMTTYPE=image/jpeg:https://sophfronia.com/wp-content/uploads/2018/06/silasbronsonlibrary-e1528732881423.jpg
END:VEVENT
BEGIN:VEVENT
DTSTART;VALUE=DATE:20180907
DTEND;VALUE=DATE:20180910
DTSTAMP:20260421T011635
CREATED:20180213T191131Z
LAST-MODIFIED:20180213T191131Z
UID:1868-1536278400-1536537599@sophfronia.com
SUMMARY:Hobart Festival of Women Writers\, Hobart\, NY
DESCRIPTION:
URL:https://sophfronia.com/event/hobart-festival-of-women-writers-hobart-ny/
CATEGORIES:Where is Sophfronia?
ATTACH;FMTTYPE=image/jpeg:https://sophfronia.com/wp-content/uploads/2017/05/event-hobart.jpg
END:VEVENT
BEGIN:VEVENT
DTSTART;TZID=America/New_York:20180904T190000
DTEND;TZID=America/New_York:20180904T200000
DTSTAMP:20260421T011635
CREATED:20180611T160354Z
LAST-MODIFIED:20180611T160354Z
UID:1983-1536087600-1536091200@sophfronia.com
SUMMARY:Author Reading\, Lawrence Public Library\, Lawrence\, KS
DESCRIPTION:
URL:https://sophfronia.com/event/author-reading-lawrence-public-library-lawrence-ks/
CATEGORIES:Where is Sophfronia?
ATTACH;FMTTYPE=image/jpeg:https://sophfronia.com/wp-content/uploads/2018/06/lawrencelibrary-e1528732863837.jpg
END:VEVENT
BEGIN:VEVENT
DTSTART;VALUE=DATE:20180714
DTEND;VALUE=DATE:20180721
DTSTAMP:20260421T011635
CREATED:20180213T191010Z
LAST-MODIFIED:20180213T191010Z
UID:1865-1531526400-1532131199@sophfronia.com
SUMMARY:Antioch Writers Workshop\, University of Dayton\, Dayton\, OH
DESCRIPTION:Sophfronia will teach fiction on the morning faculty for this popular writers event.
URL:https://sophfronia.com/event/antioch-writers-workshop-university-of-dayton-dayton-oh/
CATEGORIES:Where is Sophfronia?
ATTACH;FMTTYPE=image/jpeg:https://sophfronia.com/wp-content/uploads/2018/02/undayton-e1518548978116.jpg
END:VEVENT
BEGIN:VEVENT
DTSTART;VALUE=DATE:20180619
DTEND;VALUE=DATE:20180621
DTSTAMP:20260421T011635
CREATED:20180213T190715Z
LAST-MODIFIED:20180213T190715Z
UID:1863-1529366400-1529539199@sophfronia.com
SUMMARY:Keynote Speaker\, Publishing in Color Conference\, New Brunswick Theological Seminary\, New Brunswick\, NJ
DESCRIPTION:The first Publishing in Color conference will serve prospective African American authors and others of African descent. It will take place June 19-20\, 2018 at the New Brunswick Theological Seminary (NBTS) in New Brunswick\, New Jersey.  The beautiful new NBTS facilities are only a short walk from an Amtrak train station with convenient connections to New York City\, Philadelphia\, Baltimore\, Washington DC\, and the Newark airport (EWR).
URL:https://sophfronia.com/event/keynote-speaker-publishing-in-color-conference-new-brunswick-theological-seminary-new-brunswick-nj/
CATEGORIES:Where is Sophfronia?
ATTACH;FMTTYPE=image/jpeg:https://sophfronia.com/wp-content/uploads/2018/02/nbseminary.jpg
END:VEVENT
BEGIN:VEVENT
DTSTART;TZID=America/New_York:20180603T140000
DTEND;TZID=America/New_York:20180603T151500
DTSTAMP:20260421T011635
CREATED:20180602T164224Z
LAST-MODIFIED:20180602T164224Z
UID:1915-1528034400-1528038900@sophfronia.com
SUMMARY:Yale Writers' Workshop\, Craft Talk\, Yale University\, New Haven\, CT
DESCRIPTION:Sophfronia will deliver a craft talk entitled: All About the But: How to Create Narrative Tension \nLinsly-Chittenden Hall (63 High Street) Room 101
URL:https://sophfronia.com/event/yale-writers-workshop-craft-talk-yale-university-new-haven-ct/
CATEGORIES:Where is Sophfronia?
ATTACH;FMTTYPE=image/jpeg:https://sophfronia.com/wp-content/uploads/2018/06/YaleLinslyChittendenHall-e1527957511520.jpg
END:VEVENT
BEGIN:VEVENT
DTSTART;VALUE=DATE:20180428
DTEND;VALUE=DATE:20180429
DTSTAMP:20260421T011635
CREATED:20171129T194053Z
LAST-MODIFIED:20171129T194053Z
UID:1769-1524873600-1524959999@sophfronia.com
SUMMARY:Motherhood & Words Reading\, Loft Literary Center\, Minneapolis\, MN
DESCRIPTION:
URL:https://sophfronia.com/event/motherhood-words-reading-loft-literary-center-minneapolis-mn/
CATEGORIES:Where is Sophfronia?
ATTACH;FMTTYPE=image/jpeg:https://sophfronia.com/wp-content/uploads/2017/11/Loft_Literary_Center-e1511981865656.jpg
END:VEVENT
BEGIN:VEVENT
DTSTART;TZID=America/New_York:20180425T190000
DTEND;TZID=America/New_York:20180425T193000
DTSTAMP:20260421T011635
CREATED:20180213T184820Z
LAST-MODIFIED:20180213T184820Z
UID:1858-1524682800-1524684600@sophfronia.com
SUMMARY:Webinar: Meet the Author\, Practical Resources for Churches
DESCRIPTION:Register at this link. \nJoin author Sophfronia Scott as she discusses the book she wrote with her son\, Tain Gregory\, about the faith journey which began when Tain asked to enroll in Sunday school. The book looks at how a parent can help a child have a real faith as they engage in deep conversations\, pray together\, and get involved in the life of their local church. Tain’s mom realizes the depth  of her son’s faith when he is in third grade and loses a close friend in the Sandy Hook school shootings. Shortly afterward\, he is asked what the most important thing in the world is to him and he replies “God.” Sophfronia Scott lives with her husband and son in Sandy Hook\, Connecticut\, and serves as an acolyte\, chalice minister and librarian at Trinity Episcopal Church in Newtown. Sophfronia teaches creative writing at Regis University’s Mile High MFA and Bay Path University’s MFA in Creative Nonfiction. She is author of the novels “All I Need to Get By” (St. Martin’s Press) and “Unforgivable Love” (William Morrow) as well as an essay collection\, “Love’s Long Line” (Ohio State University Press)\, and a spiritual memoir\, ”A Child of Faith: Raising a Spiritual Being in a Secular World” (Paraclete Press)\, co-written with her son. She holds a BA in English from Harvard and an MFA in writing from Vermont College of Fine Arts. Her website is www.Sophfronia.com.
URL:https://sophfronia.com/event/webinar-meet-the-author-practical-resources-for-churches/
CATEGORIES:Where is Sophfronia?
ATTACH;FMTTYPE=image/jpeg:https://sophfronia.com/wp-content/uploads/2018/02/prcimages.jpeg
END:VEVENT
BEGIN:VEVENT
DTSTART;TZID=America/New_York:20180416T190000
DTEND;TZID=America/New_York:20180416T200000
DTSTAMP:20260421T011635
CREATED:20180213T184538Z
LAST-MODIFIED:20180213T184538Z
UID:1856-1523905200-1523908800@sophfronia.com
SUMMARY:Reading\, Fairfield University Bookstore\, Fairfield\, CT
DESCRIPTION:
URL:https://sophfronia.com/event/reading-fairfield-university-bookstore-fairfield-ct/
CATEGORIES:Where is Sophfronia?
ATTACH;FMTTYPE=image/jpeg:https://sophfronia.com/wp-content/uploads/2017/09/Fairfield_university_Hall-e1505837012135.jpg
END:VEVENT
BEGIN:VEVENT
DTSTART;VALUE=DATE:20180412
DTEND;VALUE=DATE:20180415
DTSTAMP:20260421T011635
CREATED:20171129T193653Z
LAST-MODIFIED:20171129T194228Z
UID:1765-1523491200-1523750399@sophfronia.com
SUMMARY:Panel and Book Signing\, Festival of Faith & Writing\, Grand Rapids\, MI
DESCRIPTION:
URL:https://sophfronia.com/event/panel-and-book-signing-festival-of-faith-writing-grand-rapids-mi/
CATEGORIES:Where is Sophfronia?
ATTACH;FMTTYPE=image/png:https://sophfronia.com/wp-content/uploads/2017/11/FFW-e1511981898547.png
END:VEVENT
BEGIN:VEVENT
DTSTART;TZID=America/New_York:20180323T170000
DTEND;TZID=America/New_York:20180324T170000
DTSTAMP:20260421T011635
CREATED:20171129T193409Z
LAST-MODIFIED:20171129T193409Z
UID:1763-1521824400-1521910800@sophfronia.com
SUMMARY:Spiritual Writing Workshop\, Camp Washington\, Morris\, CT
DESCRIPTION:Writing Your Spiritual Story                                                                                 \nWe all have our own story\, a personal narrative of significant events that make us who we are today. One of the beliefs that make us Episcopalian is that we come to know God through these stories and through the relationships we develop when we share them. In this insightful program novelist and essayist Sophfronia Scott will facilitate a weekend of reading and discovery. On Friday evening participants will consider examples of contemporary spiritual stories and discuss the features that make them “spiritual.” On Saturday we will work with a series of writing prompts so participants can generate their own stories. No need to be an experienced writer. You are already an experienced human being.
URL:https://sophfronia.com/event/spiritual-writing-workshop-camp-washington-morris-ct/
CATEGORIES:Where is Sophfronia?
ATTACH;FMTTYPE=image/jpeg:https://sophfronia.com/wp-content/uploads/2017/11/campwashingtonmainbuilding-e1511981918458.jpg
END:VEVENT
BEGIN:VEVENT
DTSTART;TZID=America/New_York:20180318T140000
DTEND;TZID=America/New_York:20180318T160000
DTSTAMP:20260421T011635
CREATED:20180213T184229Z
LAST-MODIFIED:20180213T184229Z
UID:1854-1521381600-1521388800@sophfronia.com
SUMMARY:Connecticut Authors Reading Series\, Newtown\, CT
DESCRIPTION:Sophfronia curates this ongoing series that introduces readers and writers to the work of authors who live in the Nutmeg State. Refreshments will be served and books will be available for sale.
URL:https://sophfronia.com/event/connecticut-authors-reading-series-newtown-ct-2/
CATEGORIES:Where is Sophfronia?
ATTACH;FMTTYPE=image/jpeg:https://sophfronia.com/wp-content/uploads/2017/05/library-e1495663704276.jpg
END:VEVENT
BEGIN:VEVENT
DTSTART;TZID=America/New_York:20180309T103000
DTEND;TZID=America/New_York:20180309T113000
DTSTAMP:20260421T011635
CREATED:20171129T193123Z
LAST-MODIFIED:20180213T190356Z
UID:1761-1520591400-1520595000@sophfronia.com
SUMMARY:Book Signing\, AWP Conference\, Tampa Convention Center\, Tampa\, FL
DESCRIPTION:Sophfronia will sign copies of her new essay collection\, Love’s Long Line\, at the Ohio State University booth as part of the AWP conference. AWP is the Association of Writers and Writing Programs.
URL:https://sophfronia.com/event/book-signing-awp-conference-tampa-fl/
CATEGORIES:Where is Sophfronia?
ATTACH;FMTTYPE=image/jpeg:https://sophfronia.com/wp-content/uploads/2017/11/tampa-e1511981989999.jpg
END:VEVENT
END:VCALENDAR