BEGIN:VCALENDAR
VERSION:2.0
PRODID:-//Sophfronia Scott - ECPv6.15.20//NONSGML v1.0//EN
CALSCALE:GREGORIAN
METHOD:PUBLISH
X-WR-CALNAME:Sophfronia Scott
X-ORIGINAL-URL:https://sophfronia.com
X-WR-CALDESC:Events for Sophfronia Scott
REFRESH-INTERVAL;VALUE=DURATION:PT1H
X-Robots-Tag:noindex
X-PUBLISHED-TTL:PT1H
BEGIN:VTIMEZONE
TZID:America/New_York
BEGIN:DAYLIGHT
TZOFFSETFROM:-0500
TZOFFSETTO:-0400
TZNAME:EDT
DTSTART:20250309T070000
END:DAYLIGHT
BEGIN:STANDARD
TZOFFSETFROM:-0400
TZOFFSETTO:-0500
TZNAME:EST
DTSTART:20251102T060000
END:STANDARD
BEGIN:DAYLIGHT
TZOFFSETFROM:-0500
TZOFFSETTO:-0400
TZNAME:EDT
DTSTART:20260308T070000
END:DAYLIGHT
BEGIN:STANDARD
TZOFFSETFROM:-0400
TZOFFSETTO:-0500
TZNAME:EST
DTSTART:20261101T060000
END:STANDARD
BEGIN:DAYLIGHT
TZOFFSETFROM:-0500
TZOFFSETTO:-0400
TZNAME:EDT
DTSTART:20270314T070000
END:DAYLIGHT
BEGIN:STANDARD
TZOFFSETFROM:-0400
TZOFFSETTO:-0500
TZNAME:EST
DTSTART:20271107T060000
END:STANDARD
END:VTIMEZONE
BEGIN:VEVENT
DTSTART;TZID=America/New_York:20260127T160000
DTEND;TZID=America/New_York:20260127T173000
DTSTAMP:20260420T060647
CREATED:20251102T145709Z
LAST-MODIFIED:20251102T145709Z
UID:4519-1769529600-1769535000@sophfronia.com
SUMMARY:Contemplation Talk\, Berkeley Divinity School at Yale\, New Haven\, CT
DESCRIPTION:The Color of Contemplation with Sophfronia Scott \n\n\nThe contemplative life is essential to grasping the wholeness that may heal divides. But what if contemplation means different things and looks like a different ideal in groups of various races and cultures? Does that mean our spirituality will always separate us? Does that mean we’re reaching for a unity that will always be beyond our reach? Author and spiritual writer Sophfronia Scott joins Executive Director Brandon Nappi for an engaging discussion at Berkeley Divinity School at Yale.
URL:https://sophfronia.com/event/contemplation-talk-berkeley-divinity-school-at-yale-new-haven-ct/
LOCATION:Berkeley Divinity School at Yale
CATEGORIES:Where is Sophfronia?
ATTACH;FMTTYPE=image/jpeg:https://sophfronia.com/wp-content/uploads/2025/11/Yale_DivinitySchool-6-scaled-e1762093269445.jpg
END:VEVENT
END:VCALENDAR