BEGIN:VCALENDAR
VERSION:2.0
PRODID:-//Sophfronia Scott - ECPv6.15.20//NONSGML v1.0//EN
CALSCALE:GREGORIAN
METHOD:PUBLISH
X-ORIGINAL-URL:https://sophfronia.com
X-WR-CALDESC:Events for Sophfronia Scott
REFRESH-INTERVAL;VALUE=DURATION:PT1H
X-Robots-Tag:noindex
X-PUBLISHED-TTL:PT1H
BEGIN:VTIMEZONE
TZID:America/New_York
BEGIN:DAYLIGHT
TZOFFSETFROM:-0500
TZOFFSETTO:-0400
TZNAME:EDT
DTSTART:20240310T070000
END:DAYLIGHT
BEGIN:STANDARD
TZOFFSETFROM:-0400
TZOFFSETTO:-0500
TZNAME:EST
DTSTART:20241103T060000
END:STANDARD
BEGIN:DAYLIGHT
TZOFFSETFROM:-0500
TZOFFSETTO:-0400
TZNAME:EDT
DTSTART:20250309T070000
END:DAYLIGHT
BEGIN:STANDARD
TZOFFSETFROM:-0400
TZOFFSETTO:-0500
TZNAME:EST
DTSTART:20251102T060000
END:STANDARD
BEGIN:DAYLIGHT
TZOFFSETFROM:-0500
TZOFFSETTO:-0400
TZNAME:EDT
DTSTART:20260308T070000
END:DAYLIGHT
BEGIN:STANDARD
TZOFFSETFROM:-0400
TZOFFSETTO:-0500
TZNAME:EST
DTSTART:20261101T060000
END:STANDARD
END:VTIMEZONE
BEGIN:VEVENT
DTSTART;TZID=America/New_York:20251115T110000
DTEND;TZID=America/New_York:20251115T140000
DTSTAMP:20260420T075204
CREATED:20251102T143353Z
LAST-MODIFIED:20251102T143353Z
UID:4506-1763204400-1763215200@sophfronia.com
SUMMARY:Author Workshop at Schuler Books\, Okemos\, MI
DESCRIPTION:Inside Tips for Publishing and Beyond \nCalling all local writers! Join us in our Okemos event studio for an afternoon of learning\, networking\, and fun!\n\nHere’s what you can expect:\n\nAn author panel featuring three amazing\, Michigan-based published authorsFeatured authors: Sophfronia Scott\, Sarah Arthur\, and Christina Wyman\nA bookseller panel that will include general tips related to how to submit event proposals\, market your book\, and build relationships with local bookstoresFeatured booksellers: Our events coordinator and our marketing manager\nA writing break-out session where participants can choose to network\, workshop with fellow authors\, or solo write/edit their work\nInformation on how to reach out to us if you are interested in getting your book stocked on our shelves\, or if you are interested in being considered for an eventPlease note: We will not accept any in-person pitches or proposals\, and we will not make any firm decisions regarding our stock or events calendar at the event\nWho this event is for:\nThis event is perfect for writers of all stages\, especially writers who are curious about the different paths to publishing\, how to market their books\, and how to build relationships within the book communityWe love writers of all ages\, however\, this event is recommended for adultsWe love seeing who is planning to join us! Tickets are mandatory for this event. The cost of your ticket will help us provide light refreshments as well as a mini author package.\n\nGrab your tickets here.
URL:https://sophfronia.com/event/author-workshop-at-schuler-books-okemos-mi/
LOCATION:Schuler Books\, 1982 W. Grand River Avenue\, Okemos\, MI\, United States
CATEGORIES:Where is Sophfronia?
ATTACH;FMTTYPE=image/jpeg:https://sophfronia.com/wp-content/uploads/2025/11/Author-Panel-Graphics3-scaled-e1762093255336.jpg
END:VEVENT
END:VCALENDAR