BEGIN:VCALENDAR
VERSION:2.0
PRODID:-//Sophfronia Scott - ECPv6.15.20//NONSGML v1.0//EN
CALSCALE:GREGORIAN
METHOD:PUBLISH
X-WR-CALNAME:Sophfronia Scott
X-ORIGINAL-URL:https://sophfronia.com
X-WR-CALDESC:Events for Sophfronia Scott
REFRESH-INTERVAL;VALUE=DURATION:PT1H
X-Robots-Tag:noindex
X-PUBLISHED-TTL:PT1H
BEGIN:VTIMEZONE
TZID:America/New_York
BEGIN:DAYLIGHT
TZOFFSETFROM:-0500
TZOFFSETTO:-0400
TZNAME:EDT
DTSTART:20220313T070000
END:DAYLIGHT
BEGIN:STANDARD
TZOFFSETFROM:-0400
TZOFFSETTO:-0500
TZNAME:EST
DTSTART:20221106T060000
END:STANDARD
BEGIN:DAYLIGHT
TZOFFSETFROM:-0500
TZOFFSETTO:-0400
TZNAME:EDT
DTSTART:20230312T070000
END:DAYLIGHT
BEGIN:STANDARD
TZOFFSETFROM:-0400
TZOFFSETTO:-0500
TZNAME:EST
DTSTART:20231105T060000
END:STANDARD
BEGIN:DAYLIGHT
TZOFFSETFROM:-0500
TZOFFSETTO:-0400
TZNAME:EDT
DTSTART:20240310T070000
END:DAYLIGHT
BEGIN:STANDARD
TZOFFSETFROM:-0400
TZOFFSETTO:-0500
TZNAME:EST
DTSTART:20241103T060000
END:STANDARD
END:VTIMEZONE
BEGIN:VEVENT
DTSTART;VALUE=DATE:20231102
DTEND;VALUE=DATE:20231105
DTSTAMP:20260420T074809
CREATED:20230920T200425Z
LAST-MODIFIED:20230920T200425Z
UID:4086-1698883200-1699142399@sophfronia.com
SUMMARY:The Episcopal Church in South Carolina Diocesan Convention\, Charleston\, SC
DESCRIPTION:The 233rd Convention of the Diocese of South Carolina will be held November 2-4\, 2023\, at St. James Episcopal Church in Charleston (James Island). The theme of this year’s convention is Testify. \nWe are delighted to have Sophfronia Scott and The Very Rev. Michael Battle with us for Convention this year. Along with the descriptions of these special guests\, we have added a special reading recommendation from each\, selecting one of their own works. Both selections will be available at the Gifts of Grace Bookstore at Grace Church Cathedral\, as well as at the link below. ​Books will be available for purchase and signing at Convention. \nhttps://www.episcopalchurchsc.org/convention-speakers.html \n 
URL:https://sophfronia.com/event/the-episcopal-church-in-south-carolina-diocesan-convention-charleston-sc/
CATEGORIES:Where is Sophfronia?
ATTACH;FMTTYPE=image/png:https://sophfronia.com/wp-content/uploads/2023/09/233rd-diocesan-convention-logo-final-2023-e1695240245833.png
END:VEVENT
END:VCALENDAR