BEGIN:VCALENDAR
VERSION:2.0
PRODID:-//Sophfronia Scott - ECPv6.15.20//NONSGML v1.0//EN
CALSCALE:GREGORIAN
METHOD:PUBLISH
X-ORIGINAL-URL:https://sophfronia.com
X-WR-CALDESC:Events for Sophfronia Scott
REFRESH-INTERVAL;VALUE=DURATION:PT1H
X-Robots-Tag:noindex
X-PUBLISHED-TTL:PT1H
BEGIN:VTIMEZONE
TZID:America/New_York
BEGIN:DAYLIGHT
TZOFFSETFROM:-0500
TZOFFSETTO:-0400
TZNAME:EDT
DTSTART:20220313T070000
END:DAYLIGHT
BEGIN:STANDARD
TZOFFSETFROM:-0400
TZOFFSETTO:-0500
TZNAME:EST
DTSTART:20221106T060000
END:STANDARD
BEGIN:DAYLIGHT
TZOFFSETFROM:-0500
TZOFFSETTO:-0400
TZNAME:EDT
DTSTART:20230312T070000
END:DAYLIGHT
BEGIN:STANDARD
TZOFFSETFROM:-0400
TZOFFSETTO:-0500
TZNAME:EST
DTSTART:20231105T060000
END:STANDARD
BEGIN:DAYLIGHT
TZOFFSETFROM:-0500
TZOFFSETTO:-0400
TZNAME:EDT
DTSTART:20240310T070000
END:DAYLIGHT
BEGIN:STANDARD
TZOFFSETFROM:-0400
TZOFFSETTO:-0500
TZNAME:EST
DTSTART:20241103T060000
END:STANDARD
END:VTIMEZONE
BEGIN:VEVENT
DTSTART;VALUE=DATE:20231006
DTEND;VALUE=DATE:20231008
DTSTAMP:20260420T091620
CREATED:20230920T185350Z
LAST-MODIFIED:20230920T191133Z
UID:4071-1696550400-1696723199@sophfronia.com
SUMMARY:Wisconsin Writers Association Conference\, Waukesha and Brookfield\, Wisconsin
DESCRIPTION:Sophfronia will represent the Alma College MFA in Creative Writing at a sponsorship table.
URL:https://sophfronia.com/event/wisconsin-writers-association-conference/
CATEGORIES:Where is Sophfronia?
ATTACH;FMTTYPE=image/jpeg:https://sophfronia.com/wp-content/uploads/2022/09/flowers-g09f9f34be_1920-e1695236012807.jpeg
END:VEVENT
END:VCALENDAR