BEGIN:VCALENDAR
VERSION:2.0
PRODID:-//Sophfronia Scott - ECPv6.15.20//NONSGML v1.0//EN
CALSCALE:GREGORIAN
METHOD:PUBLISH
X-WR-CALNAME:Sophfronia Scott
X-ORIGINAL-URL:https://sophfronia.com
X-WR-CALDESC:Events for Sophfronia Scott
REFRESH-INTERVAL;VALUE=DURATION:PT1H
X-Robots-Tag:noindex
X-PUBLISHED-TTL:PT1H
BEGIN:VTIMEZONE
TZID:America/New_York
BEGIN:DAYLIGHT
TZOFFSETFROM:-0500
TZOFFSETTO:-0400
TZNAME:EDT
DTSTART:20220313T070000
END:DAYLIGHT
BEGIN:STANDARD
TZOFFSETFROM:-0400
TZOFFSETTO:-0500
TZNAME:EST
DTSTART:20221106T060000
END:STANDARD
BEGIN:DAYLIGHT
TZOFFSETFROM:-0500
TZOFFSETTO:-0400
TZNAME:EDT
DTSTART:20230312T070000
END:DAYLIGHT
BEGIN:STANDARD
TZOFFSETFROM:-0400
TZOFFSETTO:-0500
TZNAME:EST
DTSTART:20231105T060000
END:STANDARD
BEGIN:DAYLIGHT
TZOFFSETFROM:-0500
TZOFFSETTO:-0400
TZNAME:EDT
DTSTART:20240310T070000
END:DAYLIGHT
BEGIN:STANDARD
TZOFFSETFROM:-0400
TZOFFSETTO:-0500
TZNAME:EST
DTSTART:20241103T060000
END:STANDARD
END:VTIMEZONE
BEGIN:VEVENT
DTSTART;VALUE=DATE:20230922
DTEND;VALUE=DATE:20230924
DTSTAMP:20260420T121243
CREATED:20230920T184317Z
LAST-MODIFIED:20230920T184317Z
UID:4064-1695340800-1695513599@sophfronia.com
SUMMARY:Inkubator Writing Conference\, Cleveland\, Ohio
DESCRIPTION:The Alma College MFA in Creative Writing is a sponsor for this event. Sophfronia will be present to provide information about the program. \n“Literary Cleveland’s Inkubator Writing Conference is one of the largest free writing festivals in the country.”
URL:https://sophfronia.com/event/inkubator-writing-conference-cleveland-ohio/
CATEGORIES:Where is Sophfronia?
ATTACH;FMTTYPE=image/png:https://sophfronia.com/wp-content/uploads/2023/09/Screenshot-2023-09-20-at-2.33.29-PM-e1695235377477.png
END:VEVENT
BEGIN:VEVENT
DTSTART;TZID=America/New_York:20230922T190000
DTEND;TZID=America/New_York:20230922T203000
DTSTAMP:20260420T121243
CREATED:20230920T185011Z
LAST-MODIFIED:20230920T185011Z
UID:4067-1695409200-1695414600@sophfronia.com
SUMMARY:Reading and Book Signing\, Lorain\, Ohio
DESCRIPTION:Sophfronia will be at the Lorain Historical Society on Friday\, September 22nd at 7pm for a book signing event for her novel Wild\, Beautiful\, and Free. This event is free to attend and books will be available for purchase.
URL:https://sophfronia.com/event/reading-and-book-signing-lorain-ohio/
LOCATION:Lorain Historical Society\, 329 West 10th Street\, Lorain\, OH\, United States
CATEGORIES:Where is Sophfronia?
ATTACH;FMTTYPE=image/jpeg:https://sophfronia.com/wp-content/uploads/2023/09/the-lorain-historical-e1695235794184.jpg
END:VEVENT
END:VCALENDAR