BEGIN:VCALENDAR
VERSION:2.0
PRODID:-//Sophfronia Scott - ECPv6.15.20//NONSGML v1.0//EN
CALSCALE:GREGORIAN
METHOD:PUBLISH
X-ORIGINAL-URL:https://sophfronia.com
X-WR-CALDESC:Events for Sophfronia Scott
REFRESH-INTERVAL;VALUE=DURATION:PT1H
X-Robots-Tag:noindex
X-PUBLISHED-TTL:PT1H
BEGIN:VTIMEZONE
TZID:America/New_York
BEGIN:DAYLIGHT
TZOFFSETFROM:-0500
TZOFFSETTO:-0400
TZNAME:EDT
DTSTART:20220313T070000
END:DAYLIGHT
BEGIN:STANDARD
TZOFFSETFROM:-0400
TZOFFSETTO:-0500
TZNAME:EST
DTSTART:20221106T060000
END:STANDARD
BEGIN:DAYLIGHT
TZOFFSETFROM:-0500
TZOFFSETTO:-0400
TZNAME:EDT
DTSTART:20230312T070000
END:DAYLIGHT
BEGIN:STANDARD
TZOFFSETFROM:-0400
TZOFFSETTO:-0500
TZNAME:EST
DTSTART:20231105T060000
END:STANDARD
BEGIN:DAYLIGHT
TZOFFSETFROM:-0500
TZOFFSETTO:-0400
TZNAME:EDT
DTSTART:20240310T070000
END:DAYLIGHT
BEGIN:STANDARD
TZOFFSETFROM:-0400
TZOFFSETTO:-0500
TZNAME:EST
DTSTART:20241103T060000
END:STANDARD
END:VTIMEZONE
BEGIN:VEVENT
DTSTART;VALUE=DATE:20230716
DTEND;VALUE=DATE:20230723
DTSTAMP:20260420T153332
CREATED:20221224T053902Z
LAST-MODIFIED:20221224T053902Z
UID:3924-1689465600-1690070399@sophfronia.com
SUMMARY:Glen Workshop\, Seattle\, WA
DESCRIPTION:At the Glen\, daily morning workshops offer artists at all skill levels an opportunity to develop their craft in a wide variety of genres with acclaimed faculty. Meanwhile\, morning seminars offer substantive conversation and engagement with art\, mystery\, and faith. Afternoons and evenings feature a smorgasbord of readings\, field trips\, panel conversations\, concerts\, open mics\, and worship services incorporating the arts. \n\n\n\n\nSophfronia will be on the faculty teaching a workshop for this year’s event.
URL:https://sophfronia.com/event/glen-workshop-st-johns-college-santa-fe-nm-duplicate-1/
CATEGORIES:Where is Sophfronia?
ATTACH;FMTTYPE=image/jpeg:https://sophfronia.com/wp-content/uploads/2022/12/banner-homepage_sea-e1671860300725.jpeg
END:VEVENT
END:VCALENDAR