BEGIN:VCALENDAR
VERSION:2.0
PRODID:-//Sophfronia Scott - ECPv6.15.20//NONSGML v1.0//EN
CALSCALE:GREGORIAN
METHOD:PUBLISH
X-WR-CALNAME:Sophfronia Scott
X-ORIGINAL-URL:https://sophfronia.com
X-WR-CALDESC:Events for Sophfronia Scott
REFRESH-INTERVAL;VALUE=DURATION:PT1H
X-Robots-Tag:noindex
X-PUBLISHED-TTL:PT1H
BEGIN:VTIMEZONE
TZID:America/New_York
BEGIN:DAYLIGHT
TZOFFSETFROM:-0500
TZOFFSETTO:-0400
TZNAME:EDT
DTSTART:20220313T070000
END:DAYLIGHT
BEGIN:STANDARD
TZOFFSETFROM:-0400
TZOFFSETTO:-0500
TZNAME:EST
DTSTART:20221106T060000
END:STANDARD
BEGIN:DAYLIGHT
TZOFFSETFROM:-0500
TZOFFSETTO:-0400
TZNAME:EDT
DTSTART:20230312T070000
END:DAYLIGHT
BEGIN:STANDARD
TZOFFSETFROM:-0400
TZOFFSETTO:-0500
TZNAME:EST
DTSTART:20231105T060000
END:STANDARD
BEGIN:DAYLIGHT
TZOFFSETFROM:-0500
TZOFFSETTO:-0400
TZNAME:EDT
DTSTART:20240310T070000
END:DAYLIGHT
BEGIN:STANDARD
TZOFFSETFROM:-0400
TZOFFSETTO:-0500
TZNAME:EST
DTSTART:20241103T060000
END:STANDARD
END:VTIMEZONE
BEGIN:VEVENT
DTSTART;VALUE=DATE:20230425
DTEND;VALUE=DATE:20230428
DTSTAMP:20260420T201930
CREATED:20221224T045902Z
LAST-MODIFIED:20221224T045902Z
UID:3911-1682380800-1682639999@sophfronia.com
SUMMARY:The Sacred Art of Writing\, Western Theological Seminary\, Holland\, MI
DESCRIPTION:
URL:https://sophfronia.com/event/the-sacred-art-of-writing-western-theological-seminary-holland-mi/
CATEGORIES:Where is Sophfronia?
ATTACH;FMTTYPE=image/jpeg:https://sophfronia.com/wp-content/uploads/2022/12/western-theological-seminary-e1671857723637.jpeg
END:VEVENT
END:VCALENDAR