BEGIN:VCALENDAR
VERSION:2.0
PRODID:-//Sophfronia Scott - ECPv6.15.20//NONSGML v1.0//EN
CALSCALE:GREGORIAN
METHOD:PUBLISH
X-WR-CALNAME:Sophfronia Scott
X-ORIGINAL-URL:https://sophfronia.com
X-WR-CALDESC:Events for Sophfronia Scott
REFRESH-INTERVAL;VALUE=DURATION:PT1H
X-Robots-Tag:noindex
X-PUBLISHED-TTL:PT1H
BEGIN:VTIMEZONE
TZID:America/New_York
BEGIN:DAYLIGHT
TZOFFSETFROM:-0500
TZOFFSETTO:-0400
TZNAME:EDT
DTSTART:20220313T070000
END:DAYLIGHT
BEGIN:STANDARD
TZOFFSETFROM:-0400
TZOFFSETTO:-0500
TZNAME:EST
DTSTART:20221106T060000
END:STANDARD
BEGIN:DAYLIGHT
TZOFFSETFROM:-0500
TZOFFSETTO:-0400
TZNAME:EDT
DTSTART:20230312T070000
END:DAYLIGHT
BEGIN:STANDARD
TZOFFSETFROM:-0400
TZOFFSETTO:-0500
TZNAME:EST
DTSTART:20231105T060000
END:STANDARD
BEGIN:DAYLIGHT
TZOFFSETFROM:-0500
TZOFFSETTO:-0400
TZNAME:EDT
DTSTART:20240310T070000
END:DAYLIGHT
BEGIN:STANDARD
TZOFFSETFROM:-0400
TZOFFSETTO:-0500
TZNAME:EST
DTSTART:20241103T060000
END:STANDARD
END:VTIMEZONE
BEGIN:VEVENT
DTSTART;TZID=America/New_York:20230318T090000
DTEND;TZID=America/New_York:20230318T163000
DTSTAMP:20260420T230524
CREATED:20221224T043142Z
LAST-MODIFIED:20221224T043322Z
UID:3901-1679130000-1679157000@sophfronia.com
SUMMARY:The Mystical Experience of Everyday Living - Retreat Day\, Holy Family Passionist Retreat Center\, West Hartford\, CT
DESCRIPTION:The Mystical Experience of Everyday Living\n\n\n\n\n\n\n\n\n\n\n\n\n\nSaturday\, March 18\, 2023\n9:00 a.m. to 4:30 p.m. (ET)\nSophfronia Scott\, M.F.A.\nMysticism is often viewed as the privileged experience of a few chosen\, holy individuals. But German Jesuit\, Karl Rahner\, wrote about “everyday mysticism\,” and Carmelite Sister Ruth Burrows described the mystical life simply as “God touching the depths of our being.” God is closer than we think–to all of us. We’ll explore everyday mysticism as life events filled with God’s unmistakable presence. Sharing Thomas Merton’s experiences and her own\, Sophfronia will help attendees notice\, identify\, and appreciate mystical encounters in their everyday lives. \nThis program will be offered both in-person and online via Zoom. Information on how to access the program on Zoom will be sent to participants in advance. \nThis program will include a morning and an afternoon session of Centering Prayer. \nOffering: $65 (includes lunch)
URL:https://sophfronia.com/event/the-mystical-experience-of-everyday-living-retreat-day-holy-family-passionist-retreat-center-west-hartford-ct/
CATEGORIES:Where is Sophfronia?
ATTACH;FMTTYPE=image/png:https://sophfronia.com/wp-content/uploads/2021/07/CCE-Merton-e1626475417452.png
END:VEVENT
END:VCALENDAR